BEGIN:VCALENDAR
VERSION:2.0
PRODID:-//moretoninmarsh.com - ECPv6.15.20//NONSGML v1.0//EN
CALSCALE:GREGORIAN
METHOD:PUBLISH
X-WR-CALNAME:moretoninmarsh.com
X-ORIGINAL-URL:https://moretoninmarsh.com
X-WR-CALDESC:Events for moretoninmarsh.com
REFRESH-INTERVAL;VALUE=DURATION:PT1H
X-Robots-Tag:noindex
X-PUBLISHED-TTL:PT1H
BEGIN:VTIMEZONE
TZID:Europe/London
BEGIN:DAYLIGHT
TZOFFSETFROM:+0000
TZOFFSETTO:+0100
TZNAME:BST
DTSTART:20240331T010000
END:DAYLIGHT
BEGIN:STANDARD
TZOFFSETFROM:+0100
TZOFFSETTO:+0000
TZNAME:GMT
DTSTART:20241027T010000
END:STANDARD
BEGIN:DAYLIGHT
TZOFFSETFROM:+0000
TZOFFSETTO:+0100
TZNAME:BST
DTSTART:20250330T010000
END:DAYLIGHT
BEGIN:STANDARD
TZOFFSETFROM:+0100
TZOFFSETTO:+0000
TZNAME:GMT
DTSTART:20251026T010000
END:STANDARD
BEGIN:DAYLIGHT
TZOFFSETFROM:+0000
TZOFFSETTO:+0100
TZNAME:BST
DTSTART:20260329T010000
END:DAYLIGHT
BEGIN:STANDARD
TZOFFSETFROM:+0100
TZOFFSETTO:+0000
TZNAME:GMT
DTSTART:20261025T010000
END:STANDARD
END:VTIMEZONE
BEGIN:VEVENT
DTSTART;TZID=Europe/London:20251115T100000
DTEND;TZID=Europe/London:20251115T190000
DTSTAMP:20260420T062915
CREATED:20251113T110440Z
LAST-MODIFIED:20251113T110440Z
UID:1642-1763200800-1763233200@moretoninmarsh.com
SUMMARY:Stratford-upon-Avon Christmas Lights Switch On
DESCRIPTION:Stratford-upon-Avon Christmas Lights Switch-On 2025. \nA full day of festive fun in Stratford-upon-Avon from 10am to 7pm\, with a Christmas market\, food and drink stalls\, handmade gifts\, street theatre\, stilt walkers\, choirs and live music on the main stage. \nFather Christmas will tour the town\, there will be a giant snow globe for photo opportunities\, free face painting\, arts and crafts\, and the big lights switch-on moment at around 5.30pm\, led by the Mayor and Father Christmas. \nFree\, family-friendly event. No tickets required.
URL:https://moretoninmarsh.com/event/stratford-upon-avon-christmas-lights-switch-on/
CATEGORIES:Christmas,Family
END:VEVENT
END:VCALENDAR