BEGIN:VCALENDAR
VERSION:2.0
PRODID:-//moretoninmarsh.com - ECPv6.15.20//NONSGML v1.0//EN
CALSCALE:GREGORIAN
METHOD:PUBLISH
X-WR-CALNAME:moretoninmarsh.com
X-ORIGINAL-URL:https://moretoninmarsh.com
X-WR-CALDESC:Events for moretoninmarsh.com
REFRESH-INTERVAL;VALUE=DURATION:PT1H
X-Robots-Tag:noindex
X-PUBLISHED-TTL:PT1H
BEGIN:VTIMEZONE
TZID:Europe/London
BEGIN:DAYLIGHT
TZOFFSETFROM:+0000
TZOFFSETTO:+0100
TZNAME:BST
DTSTART:20240331T010000
END:DAYLIGHT
BEGIN:STANDARD
TZOFFSETFROM:+0100
TZOFFSETTO:+0000
TZNAME:GMT
DTSTART:20241027T010000
END:STANDARD
BEGIN:DAYLIGHT
TZOFFSETFROM:+0000
TZOFFSETTO:+0100
TZNAME:BST
DTSTART:20250330T010000
END:DAYLIGHT
BEGIN:STANDARD
TZOFFSETFROM:+0100
TZOFFSETTO:+0000
TZNAME:GMT
DTSTART:20251026T010000
END:STANDARD
BEGIN:DAYLIGHT
TZOFFSETFROM:+0000
TZOFFSETTO:+0100
TZNAME:BST
DTSTART:20260329T010000
END:DAYLIGHT
BEGIN:STANDARD
TZOFFSETFROM:+0100
TZOFFSETTO:+0000
TZNAME:GMT
DTSTART:20261025T010000
END:STANDARD
END:VTIMEZONE
BEGIN:VEVENT
DTSTART;TZID=Europe/London:20251107T170000
DTEND;TZID=Europe/London:20251107T193000
DTSTAMP:20260419T205022
CREATED:20251113T092958Z
LAST-MODIFIED:20251113T092958Z
UID:1631-1762534800-1762543800@moretoninmarsh.com
SUMMARY:Annual Winter Tasting – Moreton Wine Merchants
DESCRIPTION:Join us at Moreton Wine Merchants for our Annual Winter Tasting — an evening to explore over 10 suppliers and 100+ wines including selections from brilliant local producers. What to expect:- A warm\, relaxed wine-tasting environment in the heart of Moreton-in-Marsh- Expert insights from our suppliers and staff- The chance to sample a wide array of wines from the UK and beyond- Opportunity to purchase your favourite bottles at special event pricingDetails:- Date: Friday\, 7 November 2025- Time: From 17:00 (please arrive promptly)- Venue: Moreton Wine Merchants\, Moreton-in-Marsh- Tickets: £25 per person (includes tasting glass & guided pours)Booking & Info:Spaces are limited — please book in advance via our website or contact the shop to reserve your spot.
URL:https://moretoninmarsh.com/event/annual-winter-tasting-moreton-wine-merchants/
LOCATION:Moreton Wine Merchants\, 2 High Street\, Moreton-In-Marsh\,\, Gloucestershire\, United Kingdom
CATEGORIES:Wine Tasting
END:VEVENT
BEGIN:VEVENT
DTSTART;TZID=Europe/London:20251109T100000
DTEND;TZID=Europe/London:20251109T120000
DTSTAMP:20260419T205022
CREATED:20250921T080514Z
LAST-MODIFIED:20250921T080514Z
UID:1574-1762682400-1762689600@moretoninmarsh.com
SUMMARY:Remembrance Sunday parade
DESCRIPTION:Lest we forget the fallen
URL:https://moretoninmarsh.com/event/remembrance-sunday-parade/
LOCATION:High Street\, High Street\, Moreton-in-Marsh\, Gloucestershire\, GL56 0AZ\, United Kingdom
END:VEVENT
BEGIN:VEVENT
DTSTART;TZID=Europe/London:20251112T180000
DTEND;TZID=Europe/London:20251112T203000
DTSTAMP:20260419T205022
CREATED:20251111T183820Z
LAST-MODIFIED:20251111T183820Z
UID:1624-1762970400-1762979400@moretoninmarsh.com
SUMMARY:Fired Pizza Night
DESCRIPTION:Visit Moreton Wine Merchants for our HIGHLY REQUESTED SIXTH fired pizza night\, offering an opportunity to savour an Italian pizza paired with our featured Italian wine of the week. This is a sit-down occasion to enjoy with loved ones
URL:https://moretoninmarsh.com/event/fired-pizza-night/
LOCATION:Moreton Wine Merchants\, 2 High Street\, Moreton-In-Marsh\,\, Gloucestershire\, United Kingdom
END:VEVENT
BEGIN:VEVENT
DTSTART;TZID=Europe/London:20251113T173000
DTEND;TZID=Europe/London:20251113T200000
DTSTAMP:20260419T205022
CREATED:20251113T110440Z
LAST-MODIFIED:20251113T110440Z
UID:1641-1763055000-1763064000@moretoninmarsh.com
SUMMARY:David Moore Family Butcher – Christmas Late Night Shopping
DESCRIPTION:Late night Christmas shopping with David Moore Family Butcher at Fosseway Garden Centre. \nThe perfect time to place your Christmas orders and enjoy a delicious turkey bap with cranberry sauce\, stuffing\, gravy and pigs in blankets. Fosseway Garden Centre will be open late with great discounts\, a free mince pie and a glass of bubbly for late-night shoppers. \nSee the event page for more information.
URL:https://moretoninmarsh.com/event/david-moore-family-butcher-christmas-late-night-shopping/
CATEGORIES:Christmas,Food & Drink,Shopping
END:VEVENT
BEGIN:VEVENT
DTSTART;TZID=Europe/London:20251113T190000
DTEND;TZID=Europe/London:20251113T220000
DTSTAMP:20260419T205022
CREATED:20251113T111913Z
LAST-MODIFIED:20251113T111913Z
UID:1647-1763060400-1763071200@moretoninmarsh.com
SUMMARY:Blues at The Merrymouth – Split Whiskers
DESCRIPTION:The fabulous Split Whiskers play The Merrymouth Inn for a wonderful night of blues and Americana. \nFood and bar available on the night. Tickets are £12.50 online or £14 on the door. \nSee the Facebook event page for booking details.
URL:https://moretoninmarsh.com/event/blues-at-the-merrymouth-split-whiskers/
CATEGORIES:Blues,Live Music
END:VEVENT
BEGIN:VEVENT
DTSTART;TZID=Europe/London:20251115T100000
DTEND;TZID=Europe/London:20251115T140000
DTSTAMP:20260419T205022
CREATED:20251113T110428Z
LAST-MODIFIED:20251113T110428Z
UID:1638-1763200800-1763215200@moretoninmarsh.com
SUMMARY:Indoor Farmers Market – The Redesdale Hall
DESCRIPTION:Indoor Farmers’ Market at The Redesdale Hall. \nEnjoy a free tea or coffee while you support local food producers at this indoor farmers’ market. Browse a range of local stalls offering fresh produce\, artisan foods and more. \nSee the Facebook event page for full details.
URL:https://moretoninmarsh.com/event/indoor-farmers-market-the-redesdale-hall/
CATEGORIES:Food & Drink,Market
END:VEVENT
BEGIN:VEVENT
DTSTART;TZID=Europe/London:20251115T100000
DTEND;TZID=Europe/London:20251115T150000
DTSTAMP:20260419T205022
CREATED:20251113T111913Z
LAST-MODIFIED:20251113T111913Z
UID:1646-1763200800-1763218800@moretoninmarsh.com
SUMMARY:Charity Christmas Craft Fair
DESCRIPTION:Saturday 15th November\, 10am–3pm at Leedons Park\, Childswickham. \nOur 14th Charity Christmas Craft Fair in aid of Birmingham Children’s Hospital and Cotswold Riding for Disabled. \nA multitude of local crafters displaying their latest creations\, plus refreshments and cakes\, bottle tombola and a grand raffle with over 20 prizes including tickets for wildlife parks\, breweries\, National Trust\, Birdland\, theatres\, railways\, cream teas and more. \nLast year £4000 was donated to the two charities. All are warmly invited. \nPlease note: there are no vacancies for stall holders. If anyone tries to sell you a table\, it is a scam. \nSee the Facebook event page for more details.
URL:https://moretoninmarsh.com/event/charity-christmas-craft-fair/
CATEGORIES:Charity,Christmas,Craft Fair
END:VEVENT
BEGIN:VEVENT
DTSTART;TZID=Europe/London:20251115T100000
DTEND;TZID=Europe/London:20251115T190000
DTSTAMP:20260419T205022
CREATED:20251113T110440Z
LAST-MODIFIED:20251113T110440Z
UID:1642-1763200800-1763233200@moretoninmarsh.com
SUMMARY:Stratford-upon-Avon Christmas Lights Switch On
DESCRIPTION:Stratford-upon-Avon Christmas Lights Switch-On 2025. \nA full day of festive fun in Stratford-upon-Avon from 10am to 7pm\, with a Christmas market\, food and drink stalls\, handmade gifts\, street theatre\, stilt walkers\, choirs and live music on the main stage. \nFather Christmas will tour the town\, there will be a giant snow globe for photo opportunities\, free face painting\, arts and crafts\, and the big lights switch-on moment at around 5.30pm\, led by the Mayor and Father Christmas. \nFree\, family-friendly event. No tickets required.
URL:https://moretoninmarsh.com/event/stratford-upon-avon-christmas-lights-switch-on/
CATEGORIES:Christmas,Family
END:VEVENT
BEGIN:VEVENT
DTSTART;TZID=Europe/London:20251121T193000
DTEND;TZID=Europe/London:20251121T223000
DTSTAMP:20260419T205022
CREATED:20251113T110426Z
LAST-MODIFIED:20251113T110426Z
UID:1635-1763753400-1763764200@moretoninmarsh.com
SUMMARY:Moscow Drug Club
DESCRIPTION:FRIDAY 21st NOVEMBER\, 7:30pm at The Redesdale Hall. \nMoscow Drug Club are a heady and witty mix of jazz\, French musette\, Latin grooves and New Orleans swing\, combining original material with songs by Jacques Brel\, Tom Waits\, Leonard Cohen and Eartha Kitt. They tour North America\, Europe and the UK – and they’re coming to The Redesdale Hall. \nTickets available from The Redesdale Hall website.
URL:https://moretoninmarsh.com/event/moscow-drug-club/
CATEGORIES:Concert,Live Music
END:VEVENT
BEGIN:VEVENT
DTSTART;TZID=Europe/London:20251129T100000
DTEND;TZID=Europe/London:20251129T130000
DTSTAMP:20260419T205022
CREATED:20251113T110427Z
LAST-MODIFIED:20251113T110427Z
UID:1636-1764410400-1764421200@moretoninmarsh.com
SUMMARY:Christmas Market and Light Switch On – Moreton-in-Marsh
DESCRIPTION:Our Christmas Market and Festive Light Switch-On is just around the corner! Join us on Saturday 29th November from 10am for a day filled with shopping\, treats\, family fun and Christmas sparkle. \nEnjoy festive stalls\, seasonal food and drink\, gifts and decorations\, plus the big light switch-on moment later in the day. A perfect way to kick off the Christmas season in Moreton-in-Marsh. \nFree entry. See the Facebook event page for the latest updates.
URL:https://moretoninmarsh.com/event/christmas-market-and-light-switch-on-moreton-in-marsh/
CATEGORIES:Christmas,Family,Market
END:VEVENT
END:VCALENDAR