BEGIN:VCALENDAR
VERSION:2.0
PRODID:-//moretoninmarsh.com - ECPv6.15.20//NONSGML v1.0//EN
CALSCALE:GREGORIAN
METHOD:PUBLISH
X-WR-CALNAME:moretoninmarsh.com
X-ORIGINAL-URL:https://moretoninmarsh.com
X-WR-CALDESC:Events for moretoninmarsh.com
REFRESH-INTERVAL;VALUE=DURATION:PT1H
X-Robots-Tag:noindex
X-PUBLISHED-TTL:PT1H
BEGIN:VTIMEZONE
TZID:Europe/London
BEGIN:DAYLIGHT
TZOFFSETFROM:+0000
TZOFFSETTO:+0100
TZNAME:BST
DTSTART:20250330T010000
END:DAYLIGHT
BEGIN:STANDARD
TZOFFSETFROM:+0100
TZOFFSETTO:+0000
TZNAME:GMT
DTSTART:20251026T010000
END:STANDARD
BEGIN:DAYLIGHT
TZOFFSETFROM:+0000
TZOFFSETTO:+0100
TZNAME:BST
DTSTART:20260329T010000
END:DAYLIGHT
BEGIN:STANDARD
TZOFFSETFROM:+0100
TZOFFSETTO:+0000
TZNAME:GMT
DTSTART:20261025T010000
END:STANDARD
BEGIN:DAYLIGHT
TZOFFSETFROM:+0000
TZOFFSETTO:+0100
TZNAME:BST
DTSTART:20270328T010000
END:DAYLIGHT
BEGIN:STANDARD
TZOFFSETFROM:+0100
TZOFFSETTO:+0000
TZNAME:GMT
DTSTART:20271031T010000
END:STANDARD
END:VTIMEZONE
BEGIN:VEVENT
DTSTART;TZID=Europe/London:20260702T000000
DTEND;TZID=Europe/London:20260705T000000
DTSTAMP:20260420T050852
CREATED:20260126T182953Z
LAST-MODIFIED:20260126T182953Z
UID:1880-1782950400-1783209600@moretoninmarsh.com
SUMMARY:Motorsport: British Grand Prix\, Silverstone
DESCRIPTION:
URL:https://moretoninmarsh.com/event/motorsport-british-grand-prix-silverstone/
END:VEVENT
BEGIN:VEVENT
DTSTART;TZID=Europe/London:20260703T000000
DTEND;TZID=Europe/London:20260705T000000
DTSTAMP:20260420T050852
CREATED:20260126T182954Z
LAST-MODIFIED:20260126T182954Z
UID:1881-1783036800-1783209600@moretoninmarsh.com
SUMMARY:Scottish Game Fair\, Scone
DESCRIPTION:
URL:https://moretoninmarsh.com/event/scottish-game-fair-scone/
END:VEVENT
BEGIN:VEVENT
DTSTART;TZID=Europe/London:20260703T000000
DTEND;TZID=Europe/London:20260711T000000
DTSTAMP:20260420T050852
CREATED:20260126T183007Z
LAST-MODIFIED:20260126T183007Z
UID:1882-1783036800-1783728000@moretoninmarsh.com
SUMMARY:Cheltenham Music Festival
DESCRIPTION:
URL:https://moretoninmarsh.com/event/cheltenham-music-festival/
END:VEVENT
BEGIN:VEVENT
DTSTART;TZID=Europe/London:20260704T000000
DTEND;TZID=Europe/London:20260704T000000
DTSTAMP:20260420T050852
CREATED:20260126T183008Z
LAST-MODIFIED:20260126T183008Z
UID:1883-1783123200-1783123200@moretoninmarsh.com
SUMMARY:Cricket: 2nd T20I England v India\, Old Trafford
DESCRIPTION:
URL:https://moretoninmarsh.com/event/cricket-2nd-t20i-england-v-india-old-trafford/
END:VEVENT
BEGIN:VEVENT
DTSTART;TZID=Europe/London:20260704T000000
DTEND;TZID=Europe/London:20260705T000000
DTSTAMP:20260420T050852
CREATED:20260126T183008Z
LAST-MODIFIED:20260126T183008Z
UID:1884-1783123200-1783209600@moretoninmarsh.com
SUMMARY:The Cotswold Show and Food Festival\, Cirencester Park
DESCRIPTION:
URL:https://moretoninmarsh.com/event/the-cotswold-show-and-food-festival-cirencester-park/
END:VEVENT
BEGIN:VEVENT
DTSTART;TZID=Europe/London:20260704T000000
DTEND;TZID=Europe/London:20260726T000000
DTSTAMP:20260420T050852
CREATED:20260126T183008Z
LAST-MODIFIED:20260126T183008Z
UID:1885-1783123200-1785024000@moretoninmarsh.com
SUMMARY:Cycling: Tour de France
DESCRIPTION:
URL:https://moretoninmarsh.com/event/cycling-tour-de-france/
END:VEVENT
BEGIN:VEVENT
DTSTART;TZID=Europe/London:20260704T173000
DTEND;TZID=Europe/London:20260704T230000
DTSTAMP:20260420T050852
CREATED:20251113T110428Z
LAST-MODIFIED:20251113T110428Z
UID:1639-1783186200-1783206000@moretoninmarsh.com
SUMMARY:Classic Ibiza | Ragley Hall 2026
DESCRIPTION:Stately house music returns to Ragley Hall in 2026. \nClassic Ibiza brings an evening of orchestrated dance anthems in the stunning grounds of Ragley Hall. Expect iconic Ibiza classics performed live with a full orchestra\, live vocalists and DJs\, plus a festival atmosphere. \nTickets go on sale in October – check the event page for details.
URL:https://moretoninmarsh.com/event/classic-ibiza-ragley-hall-2026/
CATEGORIES:Festival,Live Music
END:VEVENT
BEGIN:VEVENT
DTSTART;TZID=Europe/London:20260707T000000
DTEND;TZID=Europe/London:20260707T000000
DTSTAMP:20260420T050852
CREATED:20260126T183009Z
LAST-MODIFIED:20260126T183009Z
UID:1886-1783382400-1783382400@moretoninmarsh.com
SUMMARY:Cricket: 3rd T20I England v India\, Trent Bridge
DESCRIPTION:
URL:https://moretoninmarsh.com/event/cricket-3rd-t20i-england-v-india-trent-bridge/
END:VEVENT
BEGIN:VEVENT
DTSTART;TZID=Europe/London:20260708T000000
DTEND;TZID=Europe/London:20260711T000000
DTSTAMP:20260420T050852
CREATED:20260126T183022Z
LAST-MODIFIED:20260126T183022Z
UID:1887-1783468800-1783728000@moretoninmarsh.com
SUMMARY:2000 Trees Music Festival\, Withington
DESCRIPTION:
URL:https://moretoninmarsh.com/event/2000-trees-music-festival-withington/
END:VEVENT
BEGIN:VEVENT
DTSTART;TZID=Europe/London:20260709T000000
DTEND;TZID=Europe/London:20260709T000000
DTSTAMP:20260420T050852
CREATED:20260126T183023Z
LAST-MODIFIED:20260126T183023Z
UID:1888-1783555200-1783555200@moretoninmarsh.com
SUMMARY:Cricket: 4th T20I England v India\, Bristol
DESCRIPTION:
URL:https://moretoninmarsh.com/event/cricket-4th-t20i-england-v-india-bristol/
END:VEVENT
BEGIN:VEVENT
DTSTART;TZID=Europe/London:20260709T000000
DTEND;TZID=Europe/London:20260711T000000
DTSTAMP:20260420T050852
CREATED:20260126T183023Z
LAST-MODIFIED:20260126T183023Z
UID:1889-1783555200-1783728000@moretoninmarsh.com
SUMMARY:Horse Racing: Newmarket July Festival
DESCRIPTION:
URL:https://moretoninmarsh.com/event/horse-racing-newmarket-july-festival/
END:VEVENT
BEGIN:VEVENT
DTSTART;TZID=Europe/London:20260709T000000
DTEND;TZID=Europe/London:20260712T000000
DTSTAMP:20260420T050852
CREATED:20260126T183023Z
LAST-MODIFIED:20260126T183023Z
UID:1890-1783555200-1783814400@moretoninmarsh.com
SUMMARY:Motorsport: Goodwood Festival of Speed
DESCRIPTION:
URL:https://moretoninmarsh.com/event/motorsport-goodwood-festival-of-speed/
END:VEVENT
BEGIN:VEVENT
DTSTART;TZID=Europe/London:20260709T000000
DTEND;TZID=Europe/London:20260720T000000
DTSTAMP:20260420T050852
CREATED:20260126T183024Z
LAST-MODIFIED:20260126T183024Z
UID:1891-1783555200-1784505600@moretoninmarsh.com
SUMMARY:Giffords Circus\, Barrington
DESCRIPTION:
URL:https://moretoninmarsh.com/event/giffords-circus-barrington/
END:VEVENT
BEGIN:VEVENT
DTSTART;TZID=Europe/London:20260710T000000
DTEND;TZID=Europe/London:20260713T000000
DTSTAMP:20260420T050852
CREATED:20260126T183037Z
LAST-MODIFIED:20260126T183037Z
UID:1892-1783641600-1783900800@moretoninmarsh.com
SUMMARY:Cricket: Test England Women v India\, Lords
DESCRIPTION:
URL:https://moretoninmarsh.com/event/cricket-test-england-women-v-india-lords/
END:VEVENT
BEGIN:VEVENT
DTSTART;TZID=Europe/London:20260711T000000
DTEND;TZID=Europe/London:20260711T000000
DTSTAMP:20260420T050852
CREATED:20260126T183038Z
LAST-MODIFIED:20260126T183038Z
UID:1893-1783728000-1783728000@moretoninmarsh.com
SUMMARY:Cricket: 5th T20I England v India\, Southampton
DESCRIPTION:
URL:https://moretoninmarsh.com/event/cricket-5th-t20i-england-v-india-southampton/
END:VEVENT
BEGIN:VEVENT
DTSTART;TZID=Europe/London:20260711T000000
DTEND;TZID=Europe/London:20260712T000000
DTSTAMP:20260420T050852
CREATED:20260126T183038Z
LAST-MODIFIED:20260126T183038Z
UID:1894-1783728000-1783814400@moretoninmarsh.com
SUMMARY:Tewkesbury Medieval Festival
DESCRIPTION:
URL:https://moretoninmarsh.com/event/tewkesbury-medieval-festival/
END:VEVENT
BEGIN:VEVENT
DTSTART;TZID=Europe/London:20260712T000000
DTEND;TZID=Europe/London:20260712T000000
DTSTAMP:20260420T050852
CREATED:20260126T183038Z
LAST-MODIFIED:20260126T183038Z
UID:1895-1783814400-1783814400@moretoninmarsh.com
SUMMARY:Horse Racing: Stratford Family Day
DESCRIPTION:
URL:https://moretoninmarsh.com/event/horse-racing-stratford-family-day/
END:VEVENT
BEGIN:VEVENT
DTSTART;TZID=Europe/London:20260801T000000
DTEND;TZID=Europe/London:20260801T000000
DTSTAMP:20260420T050852
CREATED:20260126T183039Z
LAST-MODIFIED:20260126T183039Z
UID:1896-1785542400-1785542400@moretoninmarsh.com
SUMMARY:Cherington and Stourton Show
DESCRIPTION:
URL:https://moretoninmarsh.com/event/cherington-and-stourton-show/
END:VEVENT
BEGIN:VEVENT
DTSTART;TZID=Europe/London:20260801T000000
DTEND;TZID=Europe/London:20260801T000000
DTSTAMP:20260420T050852
CREATED:20260126T183053Z
LAST-MODIFIED:20260126T183053Z
UID:1898-1785542400-1785542400@moretoninmarsh.com
SUMMARY:Cold Aston Fayre
DESCRIPTION:
URL:https://moretoninmarsh.com/event/cold-aston-fayre/
END:VEVENT
BEGIN:VEVENT
DTSTART;TZID=Europe/London:20260801T000000
DTEND;TZID=Europe/London:20260807T000000
DTSTAMP:20260420T050852
CREATED:20260126T183052Z
LAST-MODIFIED:20260126T183052Z
UID:1897-1785542400-1786060800@moretoninmarsh.com
SUMMARY:Sailing: Cowes Week
DESCRIPTION:
URL:https://moretoninmarsh.com/event/sailing-cowes-week/
END:VEVENT
BEGIN:VEVENT
DTSTART;TZID=Europe/London:20260807T000000
DTEND;TZID=Europe/London:20260809T000000
DTSTAMP:20260420T050852
CREATED:20260126T183053Z
LAST-MODIFIED:20260126T183053Z
UID:1899-1786060800-1786233600@moretoninmarsh.com
SUMMARY:Motorsport: British MotoGP\, Silverstone
DESCRIPTION:
URL:https://moretoninmarsh.com/event/motorsport-british-motogp-silverstone/
END:VEVENT
BEGIN:VEVENT
DTSTART;TZID=Europe/London:20260807T000000
DTEND;TZID=Europe/London:20260829T000000
DTSTAMP:20260420T050852
CREATED:20260126T183053Z
LAST-MODIFIED:20260126T183053Z
UID:1900-1786060800-1787961600@moretoninmarsh.com
SUMMARY:The Royal Edinburgh Military Tattoo
DESCRIPTION:
URL:https://moretoninmarsh.com/event/the-royal-edinburgh-military-tattoo/
END:VEVENT
BEGIN:VEVENT
DTSTART;TZID=Europe/London:20260807T000000
DTEND;TZID=Europe/London:20260830T000000
DTSTAMP:20260420T050852
CREATED:20260126T183054Z
LAST-MODIFIED:20260126T183054Z
UID:1901-1786060800-1788048000@moretoninmarsh.com
SUMMARY:Edinburgh International Festival
DESCRIPTION:
URL:https://moretoninmarsh.com/event/edinburgh-international-festival/
END:VEVENT
BEGIN:VEVENT
DTSTART;TZID=Europe/London:20260808T000000
DTEND;TZID=Europe/London:20260809T000000
DTSTAMP:20260420T050852
CREATED:20260126T183107Z
LAST-MODIFIED:20260126T183107Z
UID:1902-1786147200-1786233600@moretoninmarsh.com
SUMMARY:Motorsport: BTCC\, Knockhill
DESCRIPTION:
URL:https://moretoninmarsh.com/event/motorsport-btcc-knockhill/
END:VEVENT
BEGIN:VEVENT
DTSTART;TZID=Europe/London:20260819T000000
DTEND;TZID=Europe/London:20260822T000000
DTSTAMP:20260420T050852
CREATED:20260126T183108Z
LAST-MODIFIED:20260126T183108Z
UID:1903-1787097600-1787356800@moretoninmarsh.com
SUMMARY:Horse Racing: Ebor Meeting\, York
DESCRIPTION:
URL:https://moretoninmarsh.com/event/horse-racing-ebor-meeting-york/
END:VEVENT
BEGIN:VEVENT
DTSTART;TZID=Europe/London:20260819T000000
DTEND;TZID=Europe/London:20260823T000000
DTSTAMP:20260420T050852
CREATED:20260126T183108Z
LAST-MODIFIED:20260126T183108Z
UID:1904-1787097600-1787443200@moretoninmarsh.com
SUMMARY:Cricket: 1st Test England v Pakistan\, Headingley
DESCRIPTION:
URL:https://moretoninmarsh.com/event/cricket-1st-test-england-v-pakistan-headingley/
END:VEVENT
BEGIN:VEVENT
DTSTART;TZID=Europe/London:20260820T000000
DTEND;TZID=Europe/London:20260820T000000
DTSTAMP:20260420T050852
CREATED:20260126T183109Z
LAST-MODIFIED:20260126T183109Z
UID:1905-1787184000-1787184000@moretoninmarsh.com
SUMMARY:Horse Racing: Stratford Races
DESCRIPTION:
URL:https://moretoninmarsh.com/event/horse-racing-stratford-races-3/
END:VEVENT
BEGIN:VEVENT
DTSTART;TZID=Europe/London:20260822T000000
DTEND;TZID=Europe/London:20260823T000000
DTSTAMP:20260420T050852
CREATED:20260126T183109Z
LAST-MODIFIED:20260126T183109Z
UID:1906-1787356800-1787443200@moretoninmarsh.com
SUMMARY:Motorsport: BTCC\, Donington Park
DESCRIPTION:
URL:https://moretoninmarsh.com/event/motorsport-btcc-donington-park/
END:VEVENT
BEGIN:VEVENT
DTSTART;TZID=Europe/London:20260825T000000
DTEND;TZID=Europe/London:20260825T000000
DTSTAMP:20260420T050852
CREATED:20260126T183122Z
LAST-MODIFIED:20260126T183122Z
UID:1907-1787616000-1787616000@moretoninmarsh.com
SUMMARY:Horse Racing: Stratford Races
DESCRIPTION:
URL:https://moretoninmarsh.com/event/horse-racing-stratford-races-4/
END:VEVENT
BEGIN:VEVENT
DTSTART;TZID=Europe/London:20260827T000000
DTEND;TZID=Europe/London:20260827T000000
DTSTAMP:20260420T050852
CREATED:20260126T183124Z
LAST-MODIFIED:20260126T183124Z
UID:1910-1787788800-1787788800@moretoninmarsh.com
SUMMARY:Giffords Circus\, Stratton Meadows\, Cirencester
DESCRIPTION:
URL:https://moretoninmarsh.com/event/giffords-circus-stratton-meadows-cirencester/
END:VEVENT
END:VCALENDAR