BEGIN:VCALENDAR
VERSION:2.0
PRODID:-//moretoninmarsh.com - ECPv6.15.20//NONSGML v1.0//EN
CALSCALE:GREGORIAN
METHOD:PUBLISH
X-WR-CALNAME:moretoninmarsh.com
X-ORIGINAL-URL:https://moretoninmarsh.com
X-WR-CALDESC:Events for moretoninmarsh.com
REFRESH-INTERVAL;VALUE=DURATION:PT1H
X-Robots-Tag:noindex
X-PUBLISHED-TTL:PT1H
BEGIN:VTIMEZONE
TZID:Europe/London
BEGIN:DAYLIGHT
TZOFFSETFROM:+0000
TZOFFSETTO:+0100
TZNAME:BST
DTSTART:20250330T010000
END:DAYLIGHT
BEGIN:STANDARD
TZOFFSETFROM:+0100
TZOFFSETTO:+0000
TZNAME:GMT
DTSTART:20251026T010000
END:STANDARD
BEGIN:DAYLIGHT
TZOFFSETFROM:+0000
TZOFFSETTO:+0100
TZNAME:BST
DTSTART:20260329T010000
END:DAYLIGHT
BEGIN:STANDARD
TZOFFSETFROM:+0100
TZOFFSETTO:+0000
TZNAME:GMT
DTSTART:20261025T010000
END:STANDARD
BEGIN:DAYLIGHT
TZOFFSETFROM:+0000
TZOFFSETTO:+0100
TZNAME:BST
DTSTART:20270328T010000
END:DAYLIGHT
BEGIN:STANDARD
TZOFFSETFROM:+0100
TZOFFSETTO:+0000
TZNAME:GMT
DTSTART:20271031T010000
END:STANDARD
END:VTIMEZONE
BEGIN:VEVENT
DTSTART;TZID=Europe/London:20260402T000000
DTEND;TZID=Europe/London:20260420T000000
DTSTAMP:20260420T005602
CREATED:20260126T182738Z
LAST-MODIFIED:20260126T182738Z
UID:1835-1775088000-1776643200@moretoninmarsh.com
SUMMARY:Giffords Circus\, Fennells Farm\, Stroud
DESCRIPTION:
URL:https://moretoninmarsh.com/event/giffords-circus-fennells-farm-stroud/
END:VEVENT
BEGIN:VEVENT
DTSTART;TZID=Europe/London:20260403T000000
DTEND;TZID=Europe/London:20260403T000000
DTSTAMP:20260420T005602
CREATED:20260126T182738Z
LAST-MODIFIED:20260126T182738Z
UID:1836-1775174400-1775174400@moretoninmarsh.com
SUMMARY:Good Friday
DESCRIPTION:
URL:https://moretoninmarsh.com/event/good-friday/
END:VEVENT
BEGIN:VEVENT
DTSTART;TZID=Europe/London:20260404T000000
DTEND;TZID=Europe/London:20260404T000000
DTSTAMP:20260420T005602
CREATED:20260126T182752Z
LAST-MODIFIED:20260126T182752Z
UID:1837-1775260800-1775260800@moretoninmarsh.com
SUMMARY:Rowing: Oxford v Cambridge Boat Race
DESCRIPTION:
URL:https://moretoninmarsh.com/event/rowing-oxford-v-cambridge-boat-race/
END:VEVENT
BEGIN:VEVENT
DTSTART;TZID=Europe/London:20260404T000000
DTEND;TZID=Europe/London:20260404T000000
DTSTAMP:20260420T005602
CREATED:20260126T182752Z
LAST-MODIFIED:20260126T182752Z
UID:1838-1775260800-1775260800@moretoninmarsh.com
SUMMARY:Football: FA Cup Quarter Finals
DESCRIPTION:
URL:https://moretoninmarsh.com/event/football-fa-cup-quarter-finals/
END:VEVENT
BEGIN:VEVENT
DTSTART;TZID=Europe/London:20260405T000000
DTEND;TZID=Europe/London:20260405T000000
DTSTAMP:20260420T005602
CREATED:20260126T182753Z
LAST-MODIFIED:20260126T182753Z
UID:1839-1775347200-1775347200@moretoninmarsh.com
SUMMARY:Football: Quarter Final Women's FA Cup
DESCRIPTION:
URL:https://moretoninmarsh.com/event/football-quarter-final-womens-fa-cup/
END:VEVENT
BEGIN:VEVENT
DTSTART;TZID=Europe/London:20260405T000000
DTEND;TZID=Europe/London:20260405T000000
DTSTAMP:20260420T005602
CREATED:20260126T182753Z
LAST-MODIFIED:20260126T182753Z
UID:1840-1775347200-1775347200@moretoninmarsh.com
SUMMARY:Easter Sunday
DESCRIPTION:
URL:https://moretoninmarsh.com/event/easter-sunday/
END:VEVENT
BEGIN:VEVENT
DTSTART;TZID=Europe/London:20260405T200000
DTEND;TZID=Europe/London:20260405T230000
DTSTAMP:20260420T005602
CREATED:20260303T131355Z
LAST-MODIFIED:20260303T131355Z
UID:2074-1775419200-1775430000@moretoninmarsh.com
SUMMARY:Rhythm Street Live at The Bell Inn Moreton
DESCRIPTION:
URL:https://moretoninmarsh.com/event/rhythm-street-live-at-the-bell-inn-moreton/
CATEGORIES:Live Music
END:VEVENT
BEGIN:VEVENT
DTSTART;TZID=Europe/London:20260406T000000
DTEND;TZID=Europe/London:20260406T000000
DTSTAMP:20260420T005602
CREATED:20260126T182753Z
LAST-MODIFIED:20260126T182753Z
UID:1841-1775433600-1775433600@moretoninmarsh.com
SUMMARY:North Cotswold Point to Point\, Paxford
DESCRIPTION:
URL:https://moretoninmarsh.com/event/north-cotswold-point-to-point-paxford/
END:VEVENT
BEGIN:VEVENT
DTSTART;TZID=Europe/London:20260409T000000
DTEND;TZID=Europe/London:20260412T000000
DTSTAMP:20260420T005602
CREATED:20260126T182807Z
LAST-MODIFIED:20260126T182807Z
UID:1842-1775692800-1775952000@moretoninmarsh.com
SUMMARY:Golf: US Masters\, Augusta
DESCRIPTION:
URL:https://moretoninmarsh.com/event/golf-us-masters-augusta/
END:VEVENT
BEGIN:VEVENT
DTSTART;TZID=Europe/London:20260410T000000
DTEND;TZID=Europe/London:20260419T000000
DTSTAMP:20260420T005602
CREATED:20260126T182808Z
LAST-MODIFIED:20260126T182808Z
UID:1843-1775779200-1776556800@moretoninmarsh.com
SUMMARY:Ideal Home Show\, Olympia\, London
DESCRIPTION:
URL:https://moretoninmarsh.com/event/ideal-home-show-olympia-london/
END:VEVENT
BEGIN:VEVENT
DTSTART;TZID=Europe/London:20260411T000000
DTEND;TZID=Europe/London:20260411T000000
DTSTAMP:20260420T005602
CREATED:20260126T182808Z
LAST-MODIFIED:20260126T182808Z
UID:1844-1775865600-1775865600@moretoninmarsh.com
SUMMARY:Horse Racing: Grand National\, Aintree
DESCRIPTION:
URL:https://moretoninmarsh.com/event/horse-racing-grand-national-aintree/
END:VEVENT
BEGIN:VEVENT
DTSTART;TZID=Europe/London:20260411T000000
DTEND;TZID=Europe/London:20260411T000000
DTSTAMP:20260420T005602
CREATED:20260126T182808Z
LAST-MODIFIED:20260126T182808Z
UID:1845-1775865600-1775865600@moretoninmarsh.com
SUMMARY:Rugby: Women's Six Nations England v Ireland
DESCRIPTION:
URL:https://moretoninmarsh.com/event/rugby-womens-six-nations-england-v-ireland/
END:VEVENT
BEGIN:VEVENT
DTSTART;TZID=Europe/London:20260415T000000
DTEND;TZID=Europe/London:20260416T000000
DTSTAMP:20260420T005602
CREATED:20260126T182809Z
LAST-MODIFIED:20260126T182809Z
UID:1846-1776211200-1776297600@moretoninmarsh.com
SUMMARY:Horse Racing: The April Meeting\, Cheltenham
DESCRIPTION:
URL:https://moretoninmarsh.com/event/horse-racing-the-april-meeting-cheltenham/
END:VEVENT
BEGIN:VEVENT
DTSTART;TZID=Europe/London:20260418T000000
DTEND;TZID=Europe/London:20260418T000000
DTSTAMP:20260420T005602
CREATED:20260126T182822Z
LAST-MODIFIED:20260126T182822Z
UID:1847-1776470400-1776470400@moretoninmarsh.com
SUMMARY:Horse Racing: Scottish Grand National
DESCRIPTION:
URL:https://moretoninmarsh.com/event/horse-racing-scottish-grand-national/
END:VEVENT
BEGIN:VEVENT
DTSTART;TZID=Europe/London:20260418T000000
DTEND;TZID=Europe/London:20260418T000000
DTSTAMP:20260420T005602
CREATED:20260126T182823Z
LAST-MODIFIED:20260126T182823Z
UID:1849-1776470400-1776470400@moretoninmarsh.com
SUMMARY:Worcestershire Point to Point\, Chaddesley Corbett
DESCRIPTION:
URL:https://moretoninmarsh.com/event/worcestershire-point-to-point-chaddesley-corbett/
END:VEVENT
BEGIN:VEVENT
DTSTART;TZID=Europe/London:20260418T000000
DTEND;TZID=Europe/London:20260418T000000
DTSTAMP:20260420T005602
CREATED:20260126T182824Z
LAST-MODIFIED:20260126T182824Z
UID:1850-1776470400-1776470400@moretoninmarsh.com
SUMMARY:Rugby: Women's Six Nations Scotland v England
DESCRIPTION:
URL:https://moretoninmarsh.com/event/rugby-womens-six-nations-scotland-v-england/
END:VEVENT
BEGIN:VEVENT
DTSTART;TZID=Europe/London:20260418T000000
DTEND;TZID=Europe/London:20260419T000000
DTSTAMP:20260420T005602
CREATED:20260126T182823Z
LAST-MODIFIED:20260126T182823Z
UID:1848-1776470400-1776556800@moretoninmarsh.com
SUMMARY:Motorsport: Goodwood Members' Meeting
DESCRIPTION:
URL:https://moretoninmarsh.com/event/motorsport-goodwood-members-meeting/
END:VEVENT
BEGIN:VEVENT
DTSTART;TZID=Europe/London:20260418T090000
DTEND;TZID=Europe/London:20260418T111500
DTSTAMP:20260420T005602
CREATED:20260303T131330Z
LAST-MODIFIED:20260303T131330Z
UID:2067-1776502800-1776510900@moretoninmarsh.com
SUMMARY:RBL Branch Coffee Morning
DESCRIPTION:
URL:https://moretoninmarsh.com/event/rbl-branch-coffee-morning/
CATEGORIES:Community
END:VEVENT
BEGIN:VEVENT
DTSTART;TZID=Europe/London:20260419T000000
DTEND;TZID=Europe/London:20260419T000000
DTSTAMP:20260420T005602
CREATED:20260126T182824Z
LAST-MODIFIED:20260126T182824Z
UID:1851-1776556800-1776556800@moretoninmarsh.com
SUMMARY:Horse Racing: Stratford Races
DESCRIPTION:
URL:https://moretoninmarsh.com/event/horse-racing-stratford-races-2/
END:VEVENT
BEGIN:VEVENT
DTSTART;TZID=Europe/London:20260423T000000
DTEND;TZID=Europe/London:20260423T000000
DTSTAMP:20260420T005602
CREATED:20260126T182837Z
LAST-MODIFIED:20260126T182837Z
UID:1852-1776902400-1776902400@moretoninmarsh.com
SUMMARY:St George's Day
DESCRIPTION:
URL:https://moretoninmarsh.com/event/st-georges-day/
END:VEVENT
BEGIN:VEVENT
DTSTART;TZID=Europe/London:20260423T000000
DTEND;TZID=Europe/London:20260505T000000
DTSTAMP:20260420T005602
CREATED:20260126T182838Z
LAST-MODIFIED:20260126T182838Z
UID:1853-1776902400-1777939200@moretoninmarsh.com
SUMMARY:Giffords Circus: Sudeley Castle\, Winchcombe
DESCRIPTION:
URL:https://moretoninmarsh.com/event/giffords-circus-sudeley-castle-winchcombe/
END:VEVENT
BEGIN:VEVENT
DTSTART;TZID=Europe/London:20260425T000000
DTEND;TZID=Europe/London:20260425T000000
DTSTAMP:20260420T005602
CREATED:20260126T182838Z
LAST-MODIFIED:20260126T182838Z
UID:1854-1777075200-1777075200@moretoninmarsh.com
SUMMARY:Football: FA Cup Semi Finals
DESCRIPTION:
URL:https://moretoninmarsh.com/event/football-fa-cup-semi-finals/
END:VEVENT
BEGIN:VEVENT
DTSTART;TZID=Europe/London:20260425T000000
DTEND;TZID=Europe/London:20260425T000000
DTSTAMP:20260420T005602
CREATED:20260126T182838Z
LAST-MODIFIED:20260126T182838Z
UID:1855-1777075200-1777075200@moretoninmarsh.com
SUMMARY:Rugby: Women's Six Nations England v Wales
DESCRIPTION:
URL:https://moretoninmarsh.com/event/rugby-womens-six-nations-england-v-wales/
END:VEVENT
BEGIN:VEVENT
DTSTART;TZID=Europe/London:20260425T000000
DTEND;TZID=Europe/London:20260426T000000
DTSTAMP:20260420T005602
CREATED:20260126T182839Z
LAST-MODIFIED:20260126T182839Z
UID:1856-1777075200-1777161600@moretoninmarsh.com
SUMMARY:Berkeley Point to Point\, Woodford
DESCRIPTION:
URL:https://moretoninmarsh.com/event/berkeley-point-to-point-woodford/
END:VEVENT
BEGIN:VEVENT
DTSTART;TZID=Europe/London:20260426T000000
DTEND;TZID=Europe/London:20260426T000000
DTSTAMP:20260420T005602
CREATED:20260126T182852Z
LAST-MODIFIED:20260126T182852Z
UID:1857-1777161600-1777161600@moretoninmarsh.com
SUMMARY:Motorsport: British & Midland Championships\, Prescott
DESCRIPTION:
URL:https://moretoninmarsh.com/event/motorsport-british-midland-championships-prescott/
END:VEVENT
BEGIN:VEVENT
DTSTART;TZID=Europe/London:20260429T000000
DTEND;TZID=Europe/London:20260504T000000
DTSTAMP:20260420T005602
CREATED:20260126T182852Z
LAST-MODIFIED:20260126T182852Z
UID:1858-1777420800-1777852800@moretoninmarsh.com
SUMMARY:Cheltenham Jazz Festival
DESCRIPTION:
URL:https://moretoninmarsh.com/event/cheltenham-jazz-festival/
END:VEVENT
BEGIN:VEVENT
DTSTART;TZID=Europe/London:20260501T000000
DTEND;TZID=Europe/London:20260501T000000
DTSTAMP:20260420T005602
CREATED:20260126T182853Z
LAST-MODIFIED:20260126T182853Z
UID:1859-1777593600-1777593600@moretoninmarsh.com
SUMMARY:Horse Racing: Race Night\, Cheltenham
DESCRIPTION:
URL:https://moretoninmarsh.com/event/horse-racing-race-night-cheltenham/
END:VEVENT
BEGIN:VEVENT
DTSTART;TZID=Europe/London:20260501T000000
DTEND;TZID=Europe/London:20260503T000000
DTSTAMP:20260420T005602
CREATED:20260126T182853Z
LAST-MODIFIED:20260126T182853Z
UID:1860-1777593600-1777766400@moretoninmarsh.com
SUMMARY:Horse Racing: Guineas Festival\, Newmarket
DESCRIPTION:
URL:https://moretoninmarsh.com/event/horse-racing-guineas-festival-newmarket/
END:VEVENT
BEGIN:VEVENT
DTSTART;TZID=Europe/London:20260503T000000
DTEND;TZID=Europe/London:20260509T000000
DTSTAMP:20260420T005602
CREATED:20260126T182854Z
LAST-MODIFIED:20260126T182854Z
UID:1861-1777766400-1778284800@moretoninmarsh.com
SUMMARY:Horse Racing: Randwick Wap
DESCRIPTION:
URL:https://moretoninmarsh.com/event/horse-racing-randwick-wap/
END:VEVENT
BEGIN:VEVENT
DTSTART;TZID=Europe/London:20260504T000000
DTEND;TZID=Europe/London:20260504T000000
DTSTAMP:20260420T005602
CREATED:20260126T182908Z
LAST-MODIFIED:20260126T182908Z
UID:1863-1777852800-1777852800@moretoninmarsh.com
SUMMARY:Warwickshire Point to Point\, Mollington
DESCRIPTION:
URL:https://moretoninmarsh.com/event/warwickshire-point-to-point-mollington/
END:VEVENT
END:VCALENDAR