BEGIN:VCALENDAR
VERSION:2.0
PRODID:-//moretoninmarsh.com - ECPv6.15.20//NONSGML v1.0//EN
CALSCALE:GREGORIAN
METHOD:PUBLISH
X-ORIGINAL-URL:https://moretoninmarsh.com
X-WR-CALDESC:Events for moretoninmarsh.com
REFRESH-INTERVAL;VALUE=DURATION:PT1H
X-Robots-Tag:noindex
X-PUBLISHED-TTL:PT1H
BEGIN:VTIMEZONE
TZID:Europe/London
BEGIN:DAYLIGHT
TZOFFSETFROM:+0000
TZOFFSETTO:+0100
TZNAME:BST
DTSTART:20250330T010000
END:DAYLIGHT
BEGIN:STANDARD
TZOFFSETFROM:+0100
TZOFFSETTO:+0000
TZNAME:GMT
DTSTART:20251026T010000
END:STANDARD
BEGIN:DAYLIGHT
TZOFFSETFROM:+0000
TZOFFSETTO:+0100
TZNAME:BST
DTSTART:20260329T010000
END:DAYLIGHT
BEGIN:STANDARD
TZOFFSETFROM:+0100
TZOFFSETTO:+0000
TZNAME:GMT
DTSTART:20261025T010000
END:STANDARD
BEGIN:DAYLIGHT
TZOFFSETFROM:+0000
TZOFFSETTO:+0100
TZNAME:BST
DTSTART:20270328T010000
END:DAYLIGHT
BEGIN:STANDARD
TZOFFSETFROM:+0100
TZOFFSETTO:+0000
TZNAME:GMT
DTSTART:20271031T010000
END:STANDARD
END:VTIMEZONE
BEGIN:VEVENT
DTSTART;TZID=Europe/London:20260214T000000
DTEND;TZID=Europe/London:20260214T000000
DTSTAMP:20260420T053353
CREATED:20260126T182623Z
LAST-MODIFIED:20260126T182623Z
UID:1810-1771027200-1771027200@moretoninmarsh.com
SUMMARY:Rugby: Six Nations Ireland v Italy
DESCRIPTION:
URL:https://moretoninmarsh.com/event/rugby-six-nations-ireland-v-italy/
END:VEVENT
BEGIN:VEVENT
DTSTART;TZID=Europe/London:20260214T000000
DTEND;TZID=Europe/London:20260214T000000
DTSTAMP:20260420T053353
CREATED:20260126T182623Z
LAST-MODIFIED:20260126T182623Z
UID:1811-1771027200-1771027200@moretoninmarsh.com
SUMMARY:Rugby: Six Nations Scotland v England
DESCRIPTION:
URL:https://moretoninmarsh.com/event/rugby-six-nations-scotland-v-england/
END:VEVENT
BEGIN:VEVENT
DTSTART;TZID=Europe/London:20260215T000000
DTEND;TZID=Europe/London:20260215T000000
DTSTAMP:20260420T053353
CREATED:20260126T182637Z
LAST-MODIFIED:20260126T182637Z
UID:1812-1771113600-1771113600@moretoninmarsh.com
SUMMARY:Rugby: Six Nations Wales v France
DESCRIPTION:
URL:https://moretoninmarsh.com/event/rugby-six-nations-wales-v-france/
END:VEVENT
BEGIN:VEVENT
DTSTART;TZID=Europe/London:20260217T000000
DTEND;TZID=Europe/London:20260217T000000
DTSTAMP:20260420T053353
CREATED:20260126T182638Z
LAST-MODIFIED:20260126T182638Z
UID:1813-1771286400-1771286400@moretoninmarsh.com
SUMMARY:Chinese New Year
DESCRIPTION:
URL:https://moretoninmarsh.com/event/chinese-new-year/
END:VEVENT
BEGIN:VEVENT
DTSTART;TZID=Europe/London:20260217T000000
DTEND;TZID=Europe/London:20260217T000000
DTSTAMP:20260420T053353
CREATED:20260126T182638Z
LAST-MODIFIED:20260126T182638Z
UID:1814-1771286400-1771286400@moretoninmarsh.com
SUMMARY:Shrove Tuesday
DESCRIPTION:
URL:https://moretoninmarsh.com/event/shrove-tuesday/
END:VEVENT
BEGIN:VEVENT
DTSTART;TZID=Europe/London:20260218T000000
DTEND;TZID=Europe/London:20260218T000000
DTSTAMP:20260420T053353
CREATED:20260126T182638Z
LAST-MODIFIED:20260126T182638Z
UID:1815-1771372800-1771372800@moretoninmarsh.com
SUMMARY:Ash Wednesday
DESCRIPTION:
URL:https://moretoninmarsh.com/event/ash-wednesday/
END:VEVENT
BEGIN:VEVENT
DTSTART;TZID=Europe/London:20260219T000000
DTEND;TZID=Europe/London:20260223T000000
DTSTAMP:20260420T053353
CREATED:20260126T182638Z
LAST-MODIFIED:20260126T182638Z
UID:1816-1771459200-1771804800@moretoninmarsh.com
SUMMARY:London Fashion Week
DESCRIPTION:
URL:https://moretoninmarsh.com/event/london-fashion-week/
END:VEVENT
BEGIN:VEVENT
DTSTART;TZID=Europe/London:20260221T000000
DTEND;TZID=Europe/London:20260221T000000
DTSTAMP:20260420T053353
CREATED:20260126T182652Z
LAST-MODIFIED:20260126T182652Z
UID:1817-1771632000-1771632000@moretoninmarsh.com
SUMMARY:Rugby: Six Nations England v Ireland
DESCRIPTION:
URL:https://moretoninmarsh.com/event/rugby-six-nations-england-v-ireland/
END:VEVENT
BEGIN:VEVENT
DTSTART;TZID=Europe/London:20260221T000000
DTEND;TZID=Europe/London:20260221T000000
DTSTAMP:20260420T053353
CREATED:20260126T182652Z
LAST-MODIFIED:20260126T182652Z
UID:1818-1771632000-1771632000@moretoninmarsh.com
SUMMARY:Rugby: Six Nations Wales v Scotland
DESCRIPTION:
URL:https://moretoninmarsh.com/event/rugby-six-nations-wales-v-scotland/
END:VEVENT
BEGIN:VEVENT
DTSTART;TZID=Europe/London:20260222T000000
DTEND;TZID=Europe/London:20260222T000000
DTSTAMP:20260420T053353
CREATED:20260126T182653Z
LAST-MODIFIED:20260126T182653Z
UID:1819-1771718400-1771718400@moretoninmarsh.com
SUMMARY:Football: 5th Round Women's FA Cup
DESCRIPTION:
URL:https://moretoninmarsh.com/event/football-5th-round-womens-fa-cup/
END:VEVENT
BEGIN:VEVENT
DTSTART;TZID=Europe/London:20260222T000000
DTEND;TZID=Europe/London:20260222T000000
DTSTAMP:20260420T053353
CREATED:20260126T182653Z
LAST-MODIFIED:20260126T182653Z
UID:1820-1771718400-1771718400@moretoninmarsh.com
SUMMARY:Rugby: Six Nations France v Italy
DESCRIPTION:
URL:https://moretoninmarsh.com/event/rugby-six-nations-france-v-italy/
END:VEVENT
BEGIN:VEVENT
DTSTART;TZID=Europe/London:20260301T000000
DTEND;TZID=Europe/London:20260301T000000
DTSTAMP:20260420T053353
CREATED:20260126T182654Z
LAST-MODIFIED:20260126T182654Z
UID:1821-1772323200-1772323200@moretoninmarsh.com
SUMMARY:St David's Day
DESCRIPTION:
URL:https://moretoninmarsh.com/event/st-davids-day/
END:VEVENT
BEGIN:VEVENT
DTSTART;TZID=Europe/London:20260302T100000
DTEND;TZID=Europe/London:20260303T170000
DTSTAMP:20260420T053353
CREATED:20260303T131343Z
LAST-MODIFIED:20260303T131343Z
UID:2072-1772445600-1772557200@moretoninmarsh.com
SUMMARY:2 day Contemporary Furniture Refinishing Workshop
DESCRIPTION:
URL:https://moretoninmarsh.com/event/2-day-contemporary-furniture-refinishing-workshop/
CATEGORIES:Workshop
END:VEVENT
BEGIN:VEVENT
DTSTART;TZID=Europe/London:20260305T000000
DTEND;TZID=Europe/London:20260308T000000
DTSTAMP:20260420T053353
CREATED:20260126T182707Z
LAST-MODIFIED:20260126T182707Z
UID:1822-1772668800-1772928000@moretoninmarsh.com
SUMMARY:Crufts\, NEC Birmingham
DESCRIPTION:
URL:https://moretoninmarsh.com/event/crufts-nec-birmingham/
END:VEVENT
BEGIN:VEVENT
DTSTART;TZID=Europe/London:20260306T000000
DTEND;TZID=Europe/London:20260322T000000
DTSTAMP:20260420T053353
CREATED:20260126T182707Z
LAST-MODIFIED:20260126T182707Z
UID:1823-1772755200-1774137600@moretoninmarsh.com
SUMMARY:Rugby: Six Nations Ireland v Wales
DESCRIPTION:
URL:https://moretoninmarsh.com/event/rugby-six-nations-ireland-v-wales/
END:VEVENT
BEGIN:VEVENT
DTSTART;TZID=Europe/London:20260306T173000
DTEND;TZID=Europe/London:20260306T203000
DTSTAMP:20260420T053353
CREATED:20260303T131314Z
LAST-MODIFIED:20260303T131314Z
UID:2061-1772818200-1772829000@moretoninmarsh.com
SUMMARY:Moreton in Marsh Comedy Club
DESCRIPTION:
URL:https://moretoninmarsh.com/event/moreton-in-marsh-comedy-club/
CATEGORIES:Comedy
END:VEVENT
BEGIN:VEVENT
DTSTART;TZID=Europe/London:20260307T000000
DTEND;TZID=Europe/London:20260307T000000
DTSTAMP:20260420T053353
CREATED:20260126T182708Z
LAST-MODIFIED:20260126T182708Z
UID:1824-1772841600-1772841600@moretoninmarsh.com
SUMMARY:Chipping Norton Music Festival
DESCRIPTION:
URL:https://moretoninmarsh.com/event/chipping-norton-music-festival/
END:VEVENT
BEGIN:VEVENT
DTSTART;TZID=Europe/London:20260307T000000
DTEND;TZID=Europe/London:20260307T000000
DTSTAMP:20260420T053353
CREATED:20260126T182708Z
LAST-MODIFIED:20260126T182708Z
UID:1825-1772841600-1772841600@moretoninmarsh.com
SUMMARY:Football: FA Cup 5th Round
DESCRIPTION:
URL:https://moretoninmarsh.com/event/football-fa-cup-5th-round/
END:VEVENT
BEGIN:VEVENT
DTSTART;TZID=Europe/London:20260307T000000
DTEND;TZID=Europe/London:20260307T000000
DTSTAMP:20260420T053353
CREATED:20260126T182709Z
LAST-MODIFIED:20260126T182709Z
UID:1826-1772841600-1772841600@moretoninmarsh.com
SUMMARY:Duke of Beaufort's Point to Point\, Didmarton
DESCRIPTION:
URL:https://moretoninmarsh.com/event/duke-of-beauforts-point-to-point-didmarton/
END:VEVENT
BEGIN:VEVENT
DTSTART;TZID=Europe/London:20260307T000000
DTEND;TZID=Europe/London:20260307T000000
DTSTAMP:20260420T053353
CREATED:20260126T182722Z
LAST-MODIFIED:20260126T182722Z
UID:1827-1772841600-1772841600@moretoninmarsh.com
SUMMARY:Rugby: Six Nations Scotland v France
DESCRIPTION:
URL:https://moretoninmarsh.com/event/rugby-six-nations-scotland-v-france/
END:VEVENT
BEGIN:VEVENT
DTSTART;TZID=Europe/London:20260307T000000
DTEND;TZID=Europe/London:20260307T000000
DTSTAMP:20260420T053353
CREATED:20260126T182722Z
LAST-MODIFIED:20260126T182722Z
UID:1828-1772841600-1772841600@moretoninmarsh.com
SUMMARY:Rugby: Six Nations Italy v England
DESCRIPTION:
URL:https://moretoninmarsh.com/event/rugby-six-nations-italy-v-england/
END:VEVENT
BEGIN:VEVENT
DTSTART;TZID=Europe/London:20260308T100000
DTEND;TZID=Europe/London:20260308T140000
DTSTAMP:20260420T053353
CREATED:20260303T131315Z
LAST-MODIFIED:20260303T131315Z
UID:2062-1772964000-1772978400@moretoninmarsh.com
SUMMARY:Indoor Farmers Market
DESCRIPTION:
URL:https://moretoninmarsh.com/event/indoor-farmers-market/
CATEGORIES:Market
END:VEVENT
BEGIN:VEVENT
DTSTART;TZID=Europe/London:20260309T000000
DTEND;TZID=Europe/London:20260309T000000
DTSTAMP:20260420T053353
CREATED:20260126T182723Z
LAST-MODIFIED:20260126T182723Z
UID:1829-1773014400-1773014400@moretoninmarsh.com
SUMMARY:Horse Racing: Stratford Races
DESCRIPTION:
URL:https://moretoninmarsh.com/event/horse-racing-stratford-races/
END:VEVENT
BEGIN:VEVENT
DTSTART;TZID=Europe/London:20260309T000000
DTEND;TZID=Europe/London:20260309T000000
DTSTAMP:20260420T053353
CREATED:20260126T182723Z
LAST-MODIFIED:20260126T182723Z
UID:1830-1773014400-1773014400@moretoninmarsh.com
SUMMARY:Commonwealth Day
DESCRIPTION:
URL:https://moretoninmarsh.com/event/commonwealth-day/
END:VEVENT
BEGIN:VEVENT
DTSTART;TZID=Europe/London:20260310T000000
DTEND;TZID=Europe/London:20260313T000000
DTSTAMP:20260420T053353
CREATED:20260126T182723Z
LAST-MODIFIED:20260126T182723Z
UID:1831-1773100800-1773360000@moretoninmarsh.com
SUMMARY:Horse Racing: Cheltenham Festival
DESCRIPTION:
URL:https://moretoninmarsh.com/event/horse-racing-cheltenham-festival/
END:VEVENT
BEGIN:VEVENT
DTSTART;TZID=Europe/London:20260313T180000
DTEND;TZID=Europe/London:20260313T210000
DTSTAMP:20260420T053353
CREATED:20260303T131310Z
LAST-MODIFIED:20260303T131310Z
UID:2058-1773424800-1773435600@moretoninmarsh.com
SUMMARY:The Pleides Code of the Bosnian Pyramids
DESCRIPTION:
URL:https://moretoninmarsh.com/event/the-pleides-code-of-the-bosnian-pyramids/
CATEGORIES:Talks & Lectures
END:VEVENT
BEGIN:VEVENT
DTSTART;TZID=Europe/London:20260314T000000
DTEND;TZID=Europe/London:20260314T000000
DTSTAMP:20260420T053353
CREATED:20260126T182737Z
LAST-MODIFIED:20260126T182737Z
UID:1832-1773446400-1773446400@moretoninmarsh.com
SUMMARY:Rugby: Six Nations Ireland v Scotland
DESCRIPTION:
URL:https://moretoninmarsh.com/event/rugby-six-nations-ireland-v-scotland/
END:VEVENT
BEGIN:VEVENT
DTSTART;TZID=Europe/London:20260314T000000
DTEND;TZID=Europe/London:20260314T000000
DTSTAMP:20260420T053353
CREATED:20260126T182737Z
LAST-MODIFIED:20260126T182737Z
UID:1833-1773446400-1773446400@moretoninmarsh.com
SUMMARY:Rugby: Six Nations Wales v Italy
DESCRIPTION:
URL:https://moretoninmarsh.com/event/rugby-six-nations-wales-v-italy/
END:VEVENT
BEGIN:VEVENT
DTSTART;TZID=Europe/London:20260314T113000
DTEND;TZID=Europe/London:20260314T160000
DTSTAMP:20260420T053353
CREATED:20260303T131312Z
LAST-MODIFIED:20260303T131312Z
UID:2060-1773487800-1773504000@moretoninmarsh.com
SUMMARY:Exhibition: Northcot Brick works 1925-2025
DESCRIPTION:
URL:https://moretoninmarsh.com/event/exhibition-northcot-brick-works-1925-2025/
CATEGORIES:Exhibition
END:VEVENT
BEGIN:VEVENT
DTSTART;TZID=Europe/London:20260315T120000
DTEND;TZID=Europe/London:20260315T150000
DTSTAMP:20260420T053353
CREATED:20260303T131311Z
LAST-MODIFIED:20260303T131311Z
UID:2059-1773576000-1773586800@moretoninmarsh.com
SUMMARY:Mother's Day – The Red Lion Little Compton
DESCRIPTION:
URL:https://moretoninmarsh.com/event/mothers-day-the-red-lion-little-compton/
CATEGORIES:Food & Drink
END:VEVENT
END:VCALENDAR