BEGIN:VCALENDAR
VERSION:2.0
PRODID:-//moretoninmarsh.com - ECPv6.15.20//NONSGML v1.0//EN
CALSCALE:GREGORIAN
METHOD:PUBLISH
X-ORIGINAL-URL:https://moretoninmarsh.com
X-WR-CALDESC:Events for moretoninmarsh.com
REFRESH-INTERVAL;VALUE=DURATION:PT1H
X-Robots-Tag:noindex
X-PUBLISHED-TTL:PT1H
BEGIN:VTIMEZONE
TZID:Europe/London
BEGIN:DAYLIGHT
TZOFFSETFROM:+0000
TZOFFSETTO:+0100
TZNAME:BST
DTSTART:20250330T010000
END:DAYLIGHT
BEGIN:STANDARD
TZOFFSETFROM:+0100
TZOFFSETTO:+0000
TZNAME:GMT
DTSTART:20251026T010000
END:STANDARD
BEGIN:DAYLIGHT
TZOFFSETFROM:+0000
TZOFFSETTO:+0100
TZNAME:BST
DTSTART:20260329T010000
END:DAYLIGHT
BEGIN:STANDARD
TZOFFSETFROM:+0100
TZOFFSETTO:+0000
TZNAME:GMT
DTSTART:20261025T010000
END:STANDARD
BEGIN:DAYLIGHT
TZOFFSETFROM:+0000
TZOFFSETTO:+0100
TZNAME:BST
DTSTART:20270328T010000
END:DAYLIGHT
BEGIN:STANDARD
TZOFFSETFROM:+0100
TZOFFSETTO:+0000
TZNAME:GMT
DTSTART:20271031T010000
END:STANDARD
END:VTIMEZONE
BEGIN:VEVENT
DTSTART;TZID=Europe/London:20261004T000000
DTEND;TZID=Europe/London:20261005T000000
DTSTAMP:20260420T022924
CREATED:20260126T183222Z
LAST-MODIFIED:20260126T183222Z
UID:1927-1791072000-1791158400@moretoninmarsh.com
SUMMARY:Horse Racing: Prix de l’Arc de Triomphe\, Paris
DESCRIPTION:
URL:https://moretoninmarsh.com/event/horse-racing-prix-de-larc-de-triomphe-paris/
END:VEVENT
BEGIN:VEVENT
DTSTART;TZID=Europe/London:20261005T000000
DTEND;TZID=Europe/London:20261005T000000
DTSTAMP:20260420T022924
CREATED:20260126T183223Z
LAST-MODIFIED:20260126T183223Z
UID:1928-1791158400-1791158400@moretoninmarsh.com
SUMMARY:Horse Racing: Stratford Races
DESCRIPTION:
URL:https://moretoninmarsh.com/event/horse-racing-stratford-races-6/
END:VEVENT
BEGIN:VEVENT
DTSTART;TZID=Europe/London:20261007T000000
DTEND;TZID=Europe/London:20261011T000000
DTSTAMP:20260420T022924
CREATED:20260126T183223Z
LAST-MODIFIED:20260126T183223Z
UID:1929-1791331200-1791676800@moretoninmarsh.com
SUMMARY:Horse of the Year Show\, NEC
DESCRIPTION:
URL:https://moretoninmarsh.com/event/horse-of-the-year-show-nec/
END:VEVENT
BEGIN:VEVENT
DTSTART;TZID=Europe/London:20261009T000000
DTEND;TZID=Europe/London:20261018T000000
DTSTAMP:20260420T022924
CREATED:20260126T183224Z
LAST-MODIFIED:20260126T183224Z
UID:1930-1791504000-1792281600@moretoninmarsh.com
SUMMARY:Cheltenham Literature Festival
DESCRIPTION:
URL:https://moretoninmarsh.com/event/cheltenham-literature-festival/
END:VEVENT
BEGIN:VEVENT
DTSTART;TZID=Europe/London:20261010T000000
DTEND;TZID=Europe/London:20261011T000000
DTSTAMP:20260420T022924
CREATED:20260126T183224Z
LAST-MODIFIED:20260126T183224Z
UID:1931-1791590400-1791676800@moretoninmarsh.com
SUMMARY:Motorsport: BTCC\, Brands Hatch
DESCRIPTION:
URL:https://moretoninmarsh.com/event/motorsport-btcc-brands-hatch/
END:VEVENT
BEGIN:VEVENT
DTSTART;TZID=Europe/London:20261017T000000
DTEND;TZID=Europe/London:20261017T000000
DTSTAMP:20260420T022924
CREATED:20260126T183237Z
LAST-MODIFIED:20260126T183237Z
UID:1932-1792195200-1792195200@moretoninmarsh.com
SUMMARY:Horse Racing: Stratford Races
DESCRIPTION:
URL:https://moretoninmarsh.com/event/horse-racing-stratford-races-7/
END:VEVENT
BEGIN:VEVENT
DTSTART;TZID=Europe/London:20261017T000000
DTEND;TZID=Europe/London:20261017T000000
DTSTAMP:20260420T022924
CREATED:20260126T183238Z
LAST-MODIFIED:20260126T183238Z
UID:1933-1792195200-1792195200@moretoninmarsh.com
SUMMARY:Horse Racing: British Champions Day\, Ascot
DESCRIPTION:
URL:https://moretoninmarsh.com/event/horse-racing-british-champions-day-ascot/
END:VEVENT
BEGIN:VEVENT
DTSTART;TZID=Europe/London:20261018T000000
DTEND;TZID=Europe/London:20261018T000000
DTSTAMP:20260420T022924
CREATED:20260126T183238Z
LAST-MODIFIED:20260126T183238Z
UID:1934-1792281600-1792281600@moretoninmarsh.com
SUMMARY:Great South Run\, Portsmouth
DESCRIPTION:
URL:https://moretoninmarsh.com/event/great-south-run-portsmouth/
END:VEVENT
BEGIN:VEVENT
DTSTART;TZID=Europe/London:20261021T000000
DTEND;TZID=Europe/London:20261021T000000
DTSTAMP:20260420T022924
CREATED:20260126T183238Z
LAST-MODIFIED:20260126T183238Z
UID:1935-1792540800-1792540800@moretoninmarsh.com
SUMMARY:Trafalgar Day
DESCRIPTION:
URL:https://moretoninmarsh.com/event/trafalgar-day/
END:VEVENT
BEGIN:VEVENT
DTSTART;TZID=Europe/London:20261022T000000
DTEND;TZID=Europe/London:20261022T000000
DTSTAMP:20260420T022924
CREATED:20260126T183239Z
LAST-MODIFIED:20260126T183239Z
UID:1936-1792627200-1792627200@moretoninmarsh.com
SUMMARY:Stow Fair
DESCRIPTION:
URL:https://moretoninmarsh.com/event/stow-fair/
END:VEVENT
BEGIN:VEVENT
DTSTART;TZID=Europe/London:20261023T000000
DTEND;TZID=Europe/London:20261024T000000
DTSTAMP:20260420T022924
CREATED:20260126T183252Z
LAST-MODIFIED:20260126T183252Z
UID:1937-1792713600-1792800000@moretoninmarsh.com
SUMMARY:Horse Racing: The Showcase Meeting\, Cheltenham
DESCRIPTION:
URL:https://moretoninmarsh.com/event/horse-racing-the-showcase-meeting-cheltenham/
END:VEVENT
BEGIN:VEVENT
DTSTART;TZID=Europe/London:20261025T000000
DTEND;TZID=Europe/London:20261025T000000
DTSTAMP:20260420T022924
CREATED:20260126T183253Z
LAST-MODIFIED:20260126T183253Z
UID:1938-1792886400-1792886400@moretoninmarsh.com
SUMMARY:British Summer Time ends
DESCRIPTION:
URL:https://moretoninmarsh.com/event/british-summer-time-ends/
END:VEVENT
BEGIN:VEVENT
DTSTART;TZID=Europe/London:20261029T000000
DTEND;TZID=Europe/London:20261029T000000
DTSTAMP:20260420T022924
CREATED:20260126T183253Z
LAST-MODIFIED:20260126T183253Z
UID:1939-1793232000-1793232000@moretoninmarsh.com
SUMMARY:Horse Racing: Stratford Races
DESCRIPTION:
URL:https://moretoninmarsh.com/event/horse-racing-stratford-races-8/
END:VEVENT
BEGIN:VEVENT
DTSTART;TZID=Europe/London:20261031T000000
DTEND;TZID=Europe/London:20261031T000000
DTSTAMP:20260420T022924
CREATED:20260126T183253Z
LAST-MODIFIED:20260126T183253Z
UID:1940-1793404800-1793404800@moretoninmarsh.com
SUMMARY:Halloween
DESCRIPTION:
URL:https://moretoninmarsh.com/event/halloween/
END:VEVENT
BEGIN:VEVENT
DTSTART;TZID=Europe/London:20261101T000000
DTEND;TZID=Europe/London:20261101T000000
DTSTAMP:20260420T022924
CREATED:20260126T183254Z
LAST-MODIFIED:20260126T183254Z
UID:1941-1793491200-1793491200@moretoninmarsh.com
SUMMARY:All Saints' Day
DESCRIPTION:
URL:https://moretoninmarsh.com/event/all-saints-day/
END:VEVENT
BEGIN:VEVENT
DTSTART;TZID=Europe/London:20261101T000000
DTEND;TZID=Europe/London:20261101T000000
DTSTAMP:20260420T022924
CREATED:20260126T183307Z
LAST-MODIFIED:20260126T183307Z
UID:1942-1793491200-1793491200@moretoninmarsh.com
SUMMARY:London to Brighton Veteran Car Run
DESCRIPTION:
URL:https://moretoninmarsh.com/event/london-to-brighton-veteran-car-run/
END:VEVENT
BEGIN:VEVENT
DTSTART;TZID=Europe/London:20261105T000000
DTEND;TZID=Europe/London:20261105T000000
DTSTAMP:20260420T022924
CREATED:20260126T183308Z
LAST-MODIFIED:20260126T183308Z
UID:1943-1793836800-1793836800@moretoninmarsh.com
SUMMARY:Guy Fawkes Night
DESCRIPTION:
URL:https://moretoninmarsh.com/event/guy-fawkes-night/
END:VEVENT
BEGIN:VEVENT
DTSTART;TZID=Europe/London:20261108T000000
DTEND;TZID=Europe/London:20261108T000000
DTSTAMP:20260420T022924
CREATED:20260126T183308Z
LAST-MODIFIED:20260126T183308Z
UID:1944-1794096000-1794096000@moretoninmarsh.com
SUMMARY:Remembrance Sunday
DESCRIPTION:
URL:https://moretoninmarsh.com/event/remembrance-sunday/
END:VEVENT
BEGIN:VEVENT
DTSTART;TZID=Europe/London:20261108T000000
DTEND;TZID=Europe/London:20261115T000000
DTSTAMP:20260420T022924
CREATED:20260126T183309Z
LAST-MODIFIED:20260126T183309Z
UID:1945-1794096000-1794700800@moretoninmarsh.com
SUMMARY:Tennis: ATP Finals\, Turin
DESCRIPTION:
URL:https://moretoninmarsh.com/event/tennis-atp-finals-turin/
END:VEVENT
BEGIN:VEVENT
DTSTART;TZID=Europe/London:20261113T000000
DTEND;TZID=Europe/London:20261115T000000
DTSTAMP:20260420T022924
CREATED:20260126T183309Z
LAST-MODIFIED:20260126T183309Z
UID:1946-1794528000-1794700800@moretoninmarsh.com
SUMMARY:Horse Racing: The November Meeting\, Cheltenham
DESCRIPTION:
URL:https://moretoninmarsh.com/event/horse-racing-the-november-meeting-cheltenham/
END:VEVENT
BEGIN:VEVENT
DTSTART;TZID=Europe/London:20261128T000000
DTEND;TZID=Europe/London:20261128T000000
DTSTAMP:20260420T022924
CREATED:20260126T183322Z
LAST-MODIFIED:20260126T183322Z
UID:1947-1795824000-1795824000@moretoninmarsh.com
SUMMARY:Broadway late night Christmas Market
DESCRIPTION:
URL:https://moretoninmarsh.com/event/broadway-late-night-christmas-market/
END:VEVENT
BEGIN:VEVENT
DTSTART;TZID=Europe/London:20261128T000000
DTEND;TZID=Europe/London:20261128T000000
DTSTAMP:20260420T022924
CREATED:20260126T183323Z
LAST-MODIFIED:20260126T183323Z
UID:1948-1795824000-1795824000@moretoninmarsh.com
SUMMARY:Christmas Market\, Moreton-in-Marsh
DESCRIPTION:
URL:https://moretoninmarsh.com/event/christmas-market-moreton-in-marsh/
END:VEVENT
BEGIN:VEVENT
DTSTART;TZID=Europe/London:20261130T000000
DTEND;TZID=Europe/London:20261130T000000
DTSTAMP:20260420T022924
CREATED:20260126T183323Z
LAST-MODIFIED:20260126T183323Z
UID:1949-1795996800-1795996800@moretoninmarsh.com
SUMMARY:St Andrew's Day
DESCRIPTION:
URL:https://moretoninmarsh.com/event/st-andrews-day/
END:VEVENT
BEGIN:VEVENT
DTSTART;TZID=Europe/London:20261205T000000
DTEND;TZID=Europe/London:20261205T000000
DTSTAMP:20260420T022924
CREATED:20260126T183324Z
LAST-MODIFIED:20260126T183324Z
UID:1950-1796428800-1796428800@moretoninmarsh.com
SUMMARY:Broadway late night Christmas Market
DESCRIPTION:
URL:https://moretoninmarsh.com/event/broadway-late-night-christmas-market-2/
END:VEVENT
BEGIN:VEVENT
DTSTART;TZID=Europe/London:20261217T000000
DTEND;TZID=Europe/London:20261222T000000
DTSTAMP:20260420T022924
CREATED:20260126T183324Z
LAST-MODIFIED:20260126T183324Z
UID:1951-1797465600-1797897600@moretoninmarsh.com
SUMMARY:London International Horse Show\, ExCeL
DESCRIPTION:
URL:https://moretoninmarsh.com/event/london-international-horse-show-excel/
END:VEVENT
BEGIN:VEVENT
DTSTART;TZID=Europe/London:20261224T000000
DTEND;TZID=Europe/London:20261224T000000
DTSTAMP:20260420T022924
CREATED:20260126T183337Z
LAST-MODIFIED:20260126T183337Z
UID:1952-1798070400-1798070400@moretoninmarsh.com
SUMMARY:Christmas Eve
DESCRIPTION:
URL:https://moretoninmarsh.com/event/christmas-eve/
END:VEVENT
BEGIN:VEVENT
DTSTART;TZID=Europe/London:20261225T000000
DTEND;TZID=Europe/London:20261225T000000
DTSTAMP:20260420T022924
CREATED:20260126T183338Z
LAST-MODIFIED:20260126T183338Z
UID:1953-1798156800-1798156800@moretoninmarsh.com
SUMMARY:Christmas Day
DESCRIPTION:
URL:https://moretoninmarsh.com/event/christmas-day/
END:VEVENT
BEGIN:VEVENT
DTSTART;TZID=Europe/London:20261226T000000
DTEND;TZID=Europe/London:20261226T000000
DTSTAMP:20260420T022924
CREATED:20260126T183338Z
LAST-MODIFIED:20260126T183338Z
UID:1954-1798243200-1798243200@moretoninmarsh.com
SUMMARY:Boxing Day
DESCRIPTION:
URL:https://moretoninmarsh.com/event/boxing-day/
END:VEVENT
BEGIN:VEVENT
DTSTART;TZID=Europe/London:20261226T000000
DTEND;TZID=Europe/London:20261226T000000
DTSTAMP:20260420T022924
CREATED:20260126T183338Z
LAST-MODIFIED:20260126T183338Z
UID:1955-1798243200-1798243200@moretoninmarsh.com
SUMMARY:Horse Racing: King George VI Chase\, Kempton
DESCRIPTION:
URL:https://moretoninmarsh.com/event/horse-racing-king-george-vi-chase-kempton/
END:VEVENT
BEGIN:VEVENT
DTSTART;TZID=Europe/London:20261227T000000
DTEND;TZID=Europe/London:20261227T000000
DTSTAMP:20260420T022924
CREATED:20260126T183339Z
LAST-MODIFIED:20260126T183339Z
UID:1956-1798329600-1798329600@moretoninmarsh.com
SUMMARY:Horse Racing: Welsh Grand National\, Chepstow
DESCRIPTION:
URL:https://moretoninmarsh.com/event/horse-racing-welsh-grand-national-chepstow/
END:VEVENT
END:VCALENDAR