BEGIN:VCALENDAR
VERSION:2.0
PRODID:-//moretoninmarsh.com - ECPv6.15.20//NONSGML v1.0//EN
CALSCALE:GREGORIAN
METHOD:PUBLISH
X-WR-CALNAME:moretoninmarsh.com
X-ORIGINAL-URL:https://moretoninmarsh.com
X-WR-CALDESC:Events for moretoninmarsh.com
REFRESH-INTERVAL;VALUE=DURATION:PT1H
X-Robots-Tag:noindex
X-PUBLISHED-TTL:PT1H
BEGIN:VTIMEZONE
TZID:Europe/London
BEGIN:DAYLIGHT
TZOFFSETFROM:+0000
TZOFFSETTO:+0100
TZNAME:BST
DTSTART:20250330T010000
END:DAYLIGHT
BEGIN:STANDARD
TZOFFSETFROM:+0100
TZOFFSETTO:+0000
TZNAME:GMT
DTSTART:20251026T010000
END:STANDARD
BEGIN:DAYLIGHT
TZOFFSETFROM:+0000
TZOFFSETTO:+0100
TZNAME:BST
DTSTART:20260329T010000
END:DAYLIGHT
BEGIN:STANDARD
TZOFFSETFROM:+0100
TZOFFSETTO:+0000
TZNAME:GMT
DTSTART:20261025T010000
END:STANDARD
BEGIN:DAYLIGHT
TZOFFSETFROM:+0000
TZOFFSETTO:+0100
TZNAME:BST
DTSTART:20270328T010000
END:DAYLIGHT
BEGIN:STANDARD
TZOFFSETFROM:+0100
TZOFFSETTO:+0000
TZNAME:GMT
DTSTART:20271031T010000
END:STANDARD
END:VTIMEZONE
BEGIN:VEVENT
DTSTART;TZID=Europe/London:20260704T173000
DTEND;TZID=Europe/London:20260704T230000
DTSTAMP:20260419T210326
CREATED:20251113T110428Z
LAST-MODIFIED:20251113T110428Z
UID:1639-1783186200-1783206000@moretoninmarsh.com
SUMMARY:Classic Ibiza | Ragley Hall 2026
DESCRIPTION:Stately house music returns to Ragley Hall in 2026. \nClassic Ibiza brings an evening of orchestrated dance anthems in the stunning grounds of Ragley Hall. Expect iconic Ibiza classics performed live with a full orchestra\, live vocalists and DJs\, plus a festival atmosphere. \nTickets go on sale in October – check the event page for details.
URL:https://moretoninmarsh.com/event/classic-ibiza-ragley-hall-2026/
CATEGORIES:Festival,Live Music
END:VEVENT
BEGIN:VEVENT
DTSTART;TZID=Europe/London:20260704T000000
DTEND;TZID=Europe/London:20260704T000000
DTSTAMP:20260419T210326
CREATED:20260126T183008Z
LAST-MODIFIED:20260126T183008Z
UID:1883-1783123200-1783123200@moretoninmarsh.com
SUMMARY:Cricket: 2nd T20I England v India\, Old Trafford
DESCRIPTION:
URL:https://moretoninmarsh.com/event/cricket-2nd-t20i-england-v-india-old-trafford/
END:VEVENT
BEGIN:VEVENT
DTSTART;TZID=Europe/London:20260701T000000
DTEND;TZID=Europe/London:20260701T000000
DTSTAMP:20260419T210326
CREATED:20260126T182953Z
LAST-MODIFIED:20260126T182953Z
UID:1878-1782864000-1782864000@moretoninmarsh.com
SUMMARY:Cricket: 1st T20I England v India\, Riverside\, Chester-le-Street
DESCRIPTION:
URL:https://moretoninmarsh.com/event/cricket-1st-t20i-england-v-india-riverside-chester-le-street/
END:VEVENT
BEGIN:VEVENT
DTSTART;TZID=Europe/London:20260608T000000
DTEND;TZID=Europe/London:20260621T000000
DTSTAMP:20260419T210326
CREATED:20260126T182952Z
LAST-MODIFIED:20260126T182952Z
UID:1877-1780876800-1782000000@moretoninmarsh.com
SUMMARY:Tennis: Queen's Club Tournament\, London
DESCRIPTION:
URL:https://moretoninmarsh.com/event/tennis-queens-club-tournament-london/
END:VEVENT
BEGIN:VEVENT
DTSTART;TZID=Europe/London:20260607T000000
DTEND;TZID=Europe/London:20260607T000000
DTSTAMP:20260419T210326
CREATED:20260126T182939Z
LAST-MODIFIED:20260126T182939Z
UID:1876-1780790400-1780790400@moretoninmarsh.com
SUMMARY:Motorsport: Monaco Grand Prix
DESCRIPTION:
URL:https://moretoninmarsh.com/event/motorsport-monaco-grand-prix/
END:VEVENT
BEGIN:VEVENT
DTSTART;TZID=Europe/London:20260606T000000
DTEND;TZID=Europe/London:20260607T000000
DTSTAMP:20260419T210326
CREATED:20260126T182938Z
LAST-MODIFIED:20260126T182938Z
UID:1875-1780704000-1780790400@moretoninmarsh.com
SUMMARY:Motorsport: BTCC\, Oulton Park
DESCRIPTION:
URL:https://moretoninmarsh.com/event/motorsport-btcc-oulton-park/
END:VEVENT
BEGIN:VEVENT
DTSTART;TZID=Europe/London:20260605T000000
DTEND;TZID=Europe/London:20260606T000000
DTSTAMP:20260419T210326
CREATED:20260126T182938Z
LAST-MODIFIED:20260126T182938Z
UID:1874-1780617600-1780704000@moretoninmarsh.com
SUMMARY:Horse Racing: Epsom Derby
DESCRIPTION:
URL:https://moretoninmarsh.com/event/horse-racing-epsom-derby/
END:VEVENT
BEGIN:VEVENT
DTSTART;TZID=Europe/London:20260604T000000
DTEND;TZID=Europe/London:20260608T000000
DTSTAMP:20260419T210326
CREATED:20260126T182937Z
LAST-MODIFIED:20260126T182937Z
UID:1873-1780531200-1780876800@moretoninmarsh.com
SUMMARY:Cricket: 1st Test England v New Zealand
DESCRIPTION:
URL:https://moretoninmarsh.com/event/cricket-1st-test-england-v-new-zealand/
END:VEVENT
BEGIN:VEVENT
DTSTART;TZID=Europe/London:20260602T000000
DTEND;TZID=Europe/London:20260607T000000
DTSTAMP:20260419T210326
CREATED:20260126T182937Z
LAST-MODIFIED:20260126T182937Z
UID:1872-1780358400-1780790400@moretoninmarsh.com
SUMMARY:Cheltenham Science Festival
DESCRIPTION:
URL:https://moretoninmarsh.com/event/cheltenham-science-festival/
END:VEVENT
BEGIN:VEVENT
DTSTART;TZID=Europe/London:20260602T000000
DTEND;TZID=Europe/London:20260602T000000
DTSTAMP:20260419T210326
CREATED:20260126T182923Z
LAST-MODIFIED:20260126T182923Z
UID:1871-1780358400-1780358400@moretoninmarsh.com
SUMMARY:Cricket: 3rd T20I England Women v India\, Taunton
DESCRIPTION:
URL:https://moretoninmarsh.com/event/cricket-3rd-t20i-england-women-v-india-taunton/
END:VEVENT
BEGIN:VEVENT
DTSTART;TZID=Europe/London:20260529T183000
DTEND;TZID=Europe/London:20260529T213000
DTSTAMP:20260419T210326
CREATED:20260303T131328Z
LAST-MODIFIED:20260303T131328Z
UID:2066-1780079400-1780090200@moretoninmarsh.com
SUMMARY:Spring Concert: Voices in Harmony
DESCRIPTION:
URL:https://moretoninmarsh.com/event/spring-concert-voices-in-harmony/
CATEGORIES:Live Music
END:VEVENT
BEGIN:VEVENT
DTSTART;TZID=Europe/London:20260527T120000
DTEND;TZID=Europe/London:20260527T150000
DTSTAMP:20260419T210326
CREATED:20260303T131342Z
LAST-MODIFIED:20260303T131342Z
UID:2071-1779883200-1779894000@moretoninmarsh.com
SUMMARY:Chastleton Tea & Cake Sale
DESCRIPTION:
URL:https://moretoninmarsh.com/event/chastleton-tea-cake-sale/
CATEGORIES:Charity
END:VEVENT
BEGIN:VEVENT
DTSTART;TZID=Europe/London:20260511T090000
DTEND;TZID=Europe/London:20260515T160000
DTSTAMP:20260419T210326
CREATED:20260303T131357Z
LAST-MODIFIED:20260303T131357Z
UID:2076-1778490000-1778860800@moretoninmarsh.com
SUMMARY:5 Day Professional Furniture Refinishing Workshop
DESCRIPTION:
URL:https://moretoninmarsh.com/event/5-day-professional-furniture-refinishing-workshop/
CATEGORIES:Workshop
END:VEVENT
BEGIN:VEVENT
DTSTART;TZID=Europe/London:20260509T000000
DTEND;TZID=Europe/London:20260510T000000
DTSTAMP:20260419T210326
CREATED:20260126T182923Z
LAST-MODIFIED:20260126T182923Z
UID:1869-1778284800-1778371200@moretoninmarsh.com
SUMMARY:Motorsport: BTCC Indy\, Brands Hatch
DESCRIPTION:
URL:https://moretoninmarsh.com/event/motorsport-btcc-indy-brands-hatch/
END:VEVENT
BEGIN:VEVENT
DTSTART;TZID=Europe/London:20260509T000000
DTEND;TZID=Europe/London:20260509T000000
DTSTAMP:20260419T210326
CREATED:20260126T182923Z
LAST-MODIFIED:20260126T182923Z
UID:1870-1778284800-1778284800@moretoninmarsh.com
SUMMARY:Rugby: Women's Six Nations Italy v England
DESCRIPTION:
URL:https://moretoninmarsh.com/event/rugby-womens-six-nations-italy-v-england/
END:VEVENT
BEGIN:VEVENT
DTSTART;TZID=Europe/London:20260508T000000
DTEND;TZID=Europe/London:20260518T000000
DTSTAMP:20260419T210326
CREATED:20260126T182922Z
LAST-MODIFIED:20260126T182922Z
UID:1868-1778198400-1779062400@moretoninmarsh.com
SUMMARY:Giffords Circus: Blenheim Palace\, Woodstock
DESCRIPTION:
URL:https://moretoninmarsh.com/event/giffords-circus-blenheim-palace-woodstock/
END:VEVENT
BEGIN:VEVENT
DTSTART;TZID=Europe/London:20260507T000000
DTEND;TZID=Europe/London:20260510T000000
DTSTAMP:20260419T210326
CREATED:20260126T182922Z
LAST-MODIFIED:20260126T182922Z
UID:1867-1778112000-1778371200@moretoninmarsh.com
SUMMARY:RHS Malvern Spring Festival\, Three Counties Showground
DESCRIPTION:
URL:https://moretoninmarsh.com/event/rhs-malvern-spring-festival-three-counties-showground/
END:VEVENT
BEGIN:VEVENT
DTSTART;TZID=Europe/London:20260506T000000
DTEND;TZID=Europe/London:20260510T000000
DTSTAMP:20260419T210326
CREATED:20260126T182909Z
LAST-MODIFIED:20260126T182909Z
UID:1866-1778025600-1778371200@moretoninmarsh.com
SUMMARY:Eventing: Badminton Horse Trials
DESCRIPTION:
URL:https://moretoninmarsh.com/event/eventing-badminton-horse-trials/
END:VEVENT
BEGIN:VEVENT
DTSTART;TZID=Europe/London:20260504T000000
DTEND;TZID=Europe/London:20260509T000000
DTSTAMP:20260419T210326
CREATED:20260126T182907Z
LAST-MODIFIED:20260126T182907Z
UID:1862-1777852800-1778284800@moretoninmarsh.com
SUMMARY:Chipping Campden Literature Festival
DESCRIPTION:
URL:https://moretoninmarsh.com/event/chipping-campden-literature-festival/
END:VEVENT
BEGIN:VEVENT
DTSTART;TZID=Europe/London:20260504T000000
DTEND;TZID=Europe/London:20260504T000000
DTSTAMP:20260419T210326
CREATED:20260126T182908Z
LAST-MODIFIED:20260126T182908Z
UID:1863-1777852800-1777852800@moretoninmarsh.com
SUMMARY:Warwickshire Point to Point\, Mollington
DESCRIPTION:
URL:https://moretoninmarsh.com/event/warwickshire-point-to-point-mollington/
END:VEVENT
BEGIN:VEVENT
DTSTART;TZID=Europe/London:20260504T000000
DTEND;TZID=Europe/London:20260504T000000
DTSTAMP:20260419T210326
CREATED:20260126T182908Z
LAST-MODIFIED:20260126T182908Z
UID:1864-1777852800-1777852800@moretoninmarsh.com
SUMMARY:Brailes Three Hills Walk
DESCRIPTION:
URL:https://moretoninmarsh.com/event/brailes-three-hills-walk/
END:VEVENT
BEGIN:VEVENT
DTSTART;TZID=Europe/London:20260504T000000
DTEND;TZID=Europe/London:20260504T000000
DTSTAMP:20260419T210326
CREATED:20260126T182908Z
LAST-MODIFIED:20260126T182908Z
UID:1865-1777852800-1777852800@moretoninmarsh.com
SUMMARY:May Day and Early May Bank Holiday
DESCRIPTION:
URL:https://moretoninmarsh.com/event/may-day-and-early-may-bank-holiday/
END:VEVENT
BEGIN:VEVENT
DTSTART;TZID=Europe/London:20260503T000000
DTEND;TZID=Europe/London:20260509T000000
DTSTAMP:20260419T210326
CREATED:20260126T182854Z
LAST-MODIFIED:20260126T182854Z
UID:1861-1777766400-1778284800@moretoninmarsh.com
SUMMARY:Horse Racing: Randwick Wap
DESCRIPTION:
URL:https://moretoninmarsh.com/event/horse-racing-randwick-wap/
END:VEVENT
BEGIN:VEVENT
DTSTART;TZID=Europe/London:20260501T000000
DTEND;TZID=Europe/London:20260503T000000
DTSTAMP:20260419T210326
CREATED:20260126T182853Z
LAST-MODIFIED:20260126T182853Z
UID:1860-1777593600-1777766400@moretoninmarsh.com
SUMMARY:Horse Racing: Guineas Festival\, Newmarket
DESCRIPTION:
URL:https://moretoninmarsh.com/event/horse-racing-guineas-festival-newmarket/
END:VEVENT
BEGIN:VEVENT
DTSTART;TZID=Europe/London:20260501T000000
DTEND;TZID=Europe/London:20260501T000000
DTSTAMP:20260419T210326
CREATED:20260126T182853Z
LAST-MODIFIED:20260126T182853Z
UID:1859-1777593600-1777593600@moretoninmarsh.com
SUMMARY:Horse Racing: Race Night\, Cheltenham
DESCRIPTION:
URL:https://moretoninmarsh.com/event/horse-racing-race-night-cheltenham/
END:VEVENT
BEGIN:VEVENT
DTSTART;TZID=Europe/London:20260429T000000
DTEND;TZID=Europe/London:20260504T000000
DTSTAMP:20260419T210326
CREATED:20260126T182852Z
LAST-MODIFIED:20260126T182852Z
UID:1858-1777420800-1777852800@moretoninmarsh.com
SUMMARY:Cheltenham Jazz Festival
DESCRIPTION:
URL:https://moretoninmarsh.com/event/cheltenham-jazz-festival/
END:VEVENT
BEGIN:VEVENT
DTSTART;TZID=Europe/London:20260426T000000
DTEND;TZID=Europe/London:20260426T000000
DTSTAMP:20260419T210326
CREATED:20260126T182852Z
LAST-MODIFIED:20260126T182852Z
UID:1857-1777161600-1777161600@moretoninmarsh.com
SUMMARY:Motorsport: British & Midland Championships\, Prescott
DESCRIPTION:
URL:https://moretoninmarsh.com/event/motorsport-british-midland-championships-prescott/
END:VEVENT
BEGIN:VEVENT
DTSTART;TZID=Europe/London:20260425T000000
DTEND;TZID=Europe/London:20260426T000000
DTSTAMP:20260419T210326
CREATED:20260126T182839Z
LAST-MODIFIED:20260126T182839Z
UID:1856-1777075200-1777161600@moretoninmarsh.com
SUMMARY:Berkeley Point to Point\, Woodford
DESCRIPTION:
URL:https://moretoninmarsh.com/event/berkeley-point-to-point-woodford/
END:VEVENT
BEGIN:VEVENT
DTSTART;TZID=Europe/London:20260425T000000
DTEND;TZID=Europe/London:20260425T000000
DTSTAMP:20260419T210326
CREATED:20260126T182838Z
LAST-MODIFIED:20260126T182838Z
UID:1854-1777075200-1777075200@moretoninmarsh.com
SUMMARY:Football: FA Cup Semi Finals
DESCRIPTION:
URL:https://moretoninmarsh.com/event/football-fa-cup-semi-finals/
END:VEVENT
BEGIN:VEVENT
DTSTART;TZID=Europe/London:20260425T000000
DTEND;TZID=Europe/London:20260425T000000
DTSTAMP:20260419T210326
CREATED:20260126T182838Z
LAST-MODIFIED:20260126T182838Z
UID:1855-1777075200-1777075200@moretoninmarsh.com
SUMMARY:Rugby: Women's Six Nations England v Wales
DESCRIPTION:
URL:https://moretoninmarsh.com/event/rugby-womens-six-nations-england-v-wales/
END:VEVENT
END:VCALENDAR