BEGIN:VCALENDAR
VERSION:2.0
PRODID:-//moretoninmarsh.com - ECPv6.15.20//NONSGML v1.0//EN
CALSCALE:GREGORIAN
METHOD:PUBLISH
X-WR-CALNAME:moretoninmarsh.com
X-ORIGINAL-URL:https://moretoninmarsh.com
X-WR-CALDESC:Events for moretoninmarsh.com
REFRESH-INTERVAL;VALUE=DURATION:PT1H
X-Robots-Tag:noindex
X-PUBLISHED-TTL:PT1H
BEGIN:VTIMEZONE
TZID:Europe/London
BEGIN:DAYLIGHT
TZOFFSETFROM:+0000
TZOFFSETTO:+0100
TZNAME:BST
DTSTART:20250330T010000
END:DAYLIGHT
BEGIN:STANDARD
TZOFFSETFROM:+0100
TZOFFSETTO:+0000
TZNAME:GMT
DTSTART:20251026T010000
END:STANDARD
BEGIN:DAYLIGHT
TZOFFSETFROM:+0000
TZOFFSETTO:+0100
TZNAME:BST
DTSTART:20260329T010000
END:DAYLIGHT
BEGIN:STANDARD
TZOFFSETFROM:+0100
TZOFFSETTO:+0000
TZNAME:GMT
DTSTART:20261025T010000
END:STANDARD
BEGIN:DAYLIGHT
TZOFFSETFROM:+0000
TZOFFSETTO:+0100
TZNAME:BST
DTSTART:20270328T010000
END:DAYLIGHT
BEGIN:STANDARD
TZOFFSETFROM:+0100
TZOFFSETTO:+0000
TZNAME:GMT
DTSTART:20271031T010000
END:STANDARD
END:VTIMEZONE
BEGIN:VEVENT
DTSTART;TZID=Europe/London:20260222T000000
DTEND;TZID=Europe/London:20260222T000000
DTSTAMP:20260419T205822
CREATED:20260126T182653Z
LAST-MODIFIED:20260126T182653Z
UID:1820-1771718400-1771718400@moretoninmarsh.com
SUMMARY:Rugby: Six Nations France v Italy
DESCRIPTION:
URL:https://moretoninmarsh.com/event/rugby-six-nations-france-v-italy/
END:VEVENT
BEGIN:VEVENT
DTSTART;TZID=Europe/London:20260222T000000
DTEND;TZID=Europe/London:20260222T000000
DTSTAMP:20260419T205822
CREATED:20260126T182653Z
LAST-MODIFIED:20260126T182653Z
UID:1819-1771718400-1771718400@moretoninmarsh.com
SUMMARY:Football: 5th Round Women's FA Cup
DESCRIPTION:
URL:https://moretoninmarsh.com/event/football-5th-round-womens-fa-cup/
END:VEVENT
BEGIN:VEVENT
DTSTART;TZID=Europe/London:20260221T000000
DTEND;TZID=Europe/London:20260221T000000
DTSTAMP:20260419T205822
CREATED:20260126T182652Z
LAST-MODIFIED:20260126T182652Z
UID:1818-1771632000-1771632000@moretoninmarsh.com
SUMMARY:Rugby: Six Nations Wales v Scotland
DESCRIPTION:
URL:https://moretoninmarsh.com/event/rugby-six-nations-wales-v-scotland/
END:VEVENT
BEGIN:VEVENT
DTSTART;TZID=Europe/London:20260221T000000
DTEND;TZID=Europe/London:20260221T000000
DTSTAMP:20260419T205822
CREATED:20260126T182652Z
LAST-MODIFIED:20260126T182652Z
UID:1817-1771632000-1771632000@moretoninmarsh.com
SUMMARY:Rugby: Six Nations England v Ireland
DESCRIPTION:
URL:https://moretoninmarsh.com/event/rugby-six-nations-england-v-ireland/
END:VEVENT
BEGIN:VEVENT
DTSTART;TZID=Europe/London:20260218T000000
DTEND;TZID=Europe/London:20260218T000000
DTSTAMP:20260419T205822
CREATED:20260126T182638Z
LAST-MODIFIED:20260126T182638Z
UID:1815-1771372800-1771372800@moretoninmarsh.com
SUMMARY:Ash Wednesday
DESCRIPTION:
URL:https://moretoninmarsh.com/event/ash-wednesday/
END:VEVENT
BEGIN:VEVENT
DTSTART;TZID=Europe/London:20260217T000000
DTEND;TZID=Europe/London:20260217T000000
DTSTAMP:20260419T205822
CREATED:20260126T182638Z
LAST-MODIFIED:20260126T182638Z
UID:1814-1771286400-1771286400@moretoninmarsh.com
SUMMARY:Shrove Tuesday
DESCRIPTION:
URL:https://moretoninmarsh.com/event/shrove-tuesday/
END:VEVENT
BEGIN:VEVENT
DTSTART;TZID=Europe/London:20260217T000000
DTEND;TZID=Europe/London:20260217T000000
DTSTAMP:20260419T205822
CREATED:20260126T182638Z
LAST-MODIFIED:20260126T182638Z
UID:1813-1771286400-1771286400@moretoninmarsh.com
SUMMARY:Chinese New Year
DESCRIPTION:
URL:https://moretoninmarsh.com/event/chinese-new-year/
END:VEVENT
BEGIN:VEVENT
DTSTART;TZID=Europe/London:20260215T000000
DTEND;TZID=Europe/London:20260215T000000
DTSTAMP:20260419T205822
CREATED:20260126T182637Z
LAST-MODIFIED:20260126T182637Z
UID:1812-1771113600-1771113600@moretoninmarsh.com
SUMMARY:Rugby: Six Nations Wales v France
DESCRIPTION:
URL:https://moretoninmarsh.com/event/rugby-six-nations-wales-v-france/
END:VEVENT
BEGIN:VEVENT
DTSTART;TZID=Europe/London:20260214T000000
DTEND;TZID=Europe/London:20260214T000000
DTSTAMP:20260419T205822
CREATED:20260126T182623Z
LAST-MODIFIED:20260126T182623Z
UID:1811-1771027200-1771027200@moretoninmarsh.com
SUMMARY:Rugby: Six Nations Scotland v England
DESCRIPTION:
URL:https://moretoninmarsh.com/event/rugby-six-nations-scotland-v-england/
END:VEVENT
BEGIN:VEVENT
DTSTART;TZID=Europe/London:20260214T000000
DTEND;TZID=Europe/London:20260214T000000
DTSTAMP:20260419T205822
CREATED:20260126T182623Z
LAST-MODIFIED:20260126T182623Z
UID:1810-1771027200-1771027200@moretoninmarsh.com
SUMMARY:Rugby: Six Nations Ireland v Italy
DESCRIPTION:
URL:https://moretoninmarsh.com/event/rugby-six-nations-ireland-v-italy/
END:VEVENT
BEGIN:VEVENT
DTSTART;TZID=Europe/London:20260214T000000
DTEND;TZID=Europe/London:20260214T000000
DTSTAMP:20260419T205822
CREATED:20260126T182623Z
LAST-MODIFIED:20260126T182623Z
UID:1809-1771027200-1771027200@moretoninmarsh.com
SUMMARY:Football: FA Cup 4th Round
DESCRIPTION:
URL:https://moretoninmarsh.com/event/football-fa-cup-4th-round/
END:VEVENT
BEGIN:VEVENT
DTSTART;TZID=Europe/London:20260208T000000
DTEND;TZID=Europe/London:20260208T000000
DTSTAMP:20260419T205822
CREATED:20260126T182622Z
LAST-MODIFIED:20260126T182622Z
UID:1808-1770508800-1770508800@moretoninmarsh.com
SUMMARY:American Football: Super Bowl\, Santa Clara
DESCRIPTION:
URL:https://moretoninmarsh.com/event/american-football-super-bowl-santa-clara/
END:VEVENT
BEGIN:VEVENT
DTSTART;TZID=Europe/London:20260207T000000
DTEND;TZID=Europe/London:20260207T000000
DTSTAMP:20260419T205822
CREATED:20260126T182622Z
LAST-MODIFIED:20260126T182622Z
UID:1807-1770422400-1770422400@moretoninmarsh.com
SUMMARY:Rugby: Six Nations England v Wales
DESCRIPTION:
URL:https://moretoninmarsh.com/event/rugby-six-nations-england-v-wales/
END:VEVENT
BEGIN:VEVENT
DTSTART;TZID=Europe/London:20260207T000000
DTEND;TZID=Europe/London:20260207T000000
DTSTAMP:20260419T205822
CREATED:20260126T182609Z
LAST-MODIFIED:20260126T182609Z
UID:1806-1770422400-1770422400@moretoninmarsh.com
SUMMARY:Rugby: Six Nations Italy v Scotland
DESCRIPTION:
URL:https://moretoninmarsh.com/event/rugby-six-nations-italy-v-scotland/
END:VEVENT
BEGIN:VEVENT
DTSTART;TZID=Europe/London:20260206T000000
DTEND;TZID=Europe/London:20260222T000000
DTSTAMP:20260419T205822
CREATED:20260126T182608Z
LAST-MODIFIED:20260126T182608Z
UID:1805-1770336000-1771718400@moretoninmarsh.com
SUMMARY:Winter Olympics: Milano Cortina\, Italy
DESCRIPTION:
URL:https://moretoninmarsh.com/event/winter-olympics-milano-cortina-italy/
END:VEVENT
BEGIN:VEVENT
DTSTART;TZID=Europe/London:20260205T000000
DTEND;TZID=Europe/London:20260207T000000
DTSTAMP:20260419T205822
CREATED:20260126T182608Z
LAST-MODIFIED:20260126T182608Z
UID:1804-1770249600-1770422400@moretoninmarsh.com
SUMMARY:Tewkesbury Winter Ales Festival
DESCRIPTION:
URL:https://moretoninmarsh.com/event/tewkesbury-winter-ales-festival/
END:VEVENT
BEGIN:VEVENT
DTSTART;TZID=Europe/London:20260205T000000
DTEND;TZID=Europe/London:20260205T000000
DTSTAMP:20260419T205822
CREATED:20260126T182607Z
LAST-MODIFIED:20260126T182607Z
UID:1803-1770249600-1770249600@moretoninmarsh.com
SUMMARY:Rugby: Six Nations France v Ireland
DESCRIPTION:
URL:https://moretoninmarsh.com/event/rugby-six-nations-france-v-ireland/
END:VEVENT
BEGIN:VEVENT
DTSTART;TZID=Europe/London:20260203T000000
DTEND;TZID=Europe/London:20260203T000000
DTSTAMP:20260419T205822
CREATED:20260126T182607Z
LAST-MODIFIED:20260126T182607Z
UID:1802-1770076800-1770076800@moretoninmarsh.com
SUMMARY:Cricket: 3rd T20I Sri Lanka v England\, Pallekele
DESCRIPTION:
URL:https://moretoninmarsh.com/event/cricket-3rd-t20i-sri-lanka-v-england-pallekele/
END:VEVENT
BEGIN:VEVENT
DTSTART;TZID=Europe/London:20260201T000000
DTEND;TZID=Europe/London:20260201T000000
DTSTAMP:20260419T205822
CREATED:20260126T182553Z
LAST-MODIFIED:20260126T182553Z
UID:1801-1769904000-1769904000@moretoninmarsh.com
SUMMARY:Cricket: 2nd T20I Sri Lanka v England\, Pallekele
DESCRIPTION:
URL:https://moretoninmarsh.com/event/cricket-2nd-t20i-sri-lanka-v-england-pallekele/
END:VEVENT
BEGIN:VEVENT
DTSTART;TZID=Europe/London:20260130T000000
DTEND;TZID=Europe/London:20260130T000000
DTSTAMP:20260419T205822
CREATED:20260126T182553Z
LAST-MODIFIED:20260126T182553Z
UID:1800-1769731200-1769731200@moretoninmarsh.com
SUMMARY:Cricket: 1st T20I Sri Lanka v England\, Pallekele
DESCRIPTION:
URL:https://moretoninmarsh.com/event/cricket-1st-t20i-sri-lanka-v-england-pallekele/
END:VEVENT
BEGIN:VEVENT
DTSTART;TZID=Europe/London:20260127T000000
DTEND;TZID=Europe/London:20260127T000000
DTSTAMP:20260419T205822
CREATED:20260126T182553Z
LAST-MODIFIED:20260126T182553Z
UID:1799-1769472000-1769472000@moretoninmarsh.com
SUMMARY:Cricket: 3rd ODI Sri Lanka v England\, Colombo
DESCRIPTION:
URL:https://moretoninmarsh.com/event/cricket-3rd-odi-sri-lanka-v-england-colombo/
END:VEVENT
BEGIN:VEVENT
DTSTART;TZID=Europe/London:20260125T000000
DTEND;TZID=Europe/London:20260125T000000
DTSTAMP:20260419T205822
CREATED:20260126T182552Z
LAST-MODIFIED:20260126T182552Z
UID:1798-1769299200-1769299200@moretoninmarsh.com
SUMMARY:Cocklebarrrow Races\, Heythrop Point to Point\, Nr Northleach
DESCRIPTION:
URL:https://moretoninmarsh.com/event/cocklebarrrow-races-heythrop-point-to-point-nr-northleach/
END:VEVENT
BEGIN:VEVENT
DTSTART;TZID=Europe/London:20260125T000000
DTEND;TZID=Europe/London:20260125T000000
DTSTAMP:20260419T205822
CREATED:20260126T182552Z
LAST-MODIFIED:20260126T182552Z
UID:1797-1769299200-1769299200@moretoninmarsh.com
SUMMARY:Burns Night
DESCRIPTION:
URL:https://moretoninmarsh.com/event/burns-night/
END:VEVENT
BEGIN:VEVENT
DTSTART;TZID=Europe/London:20260124T000000
DTEND;TZID=Europe/London:20260124T000000
DTSTAMP:20260419T205822
CREATED:20260126T182538Z
LAST-MODIFIED:20260126T182538Z
UID:1796-1769212800-1769212800@moretoninmarsh.com
SUMMARY:Cricket: 2nd ODI Sri Lanka v England\, Colombo
DESCRIPTION:
URL:https://moretoninmarsh.com/event/cricket-2nd-odi-sri-lanka-v-england-colombo/
END:VEVENT
BEGIN:VEVENT
DTSTART;TZID=Europe/London:20260124T000000
DTEND;TZID=Europe/London:20260124T000000
DTSTAMP:20260419T205822
CREATED:20260126T182537Z
LAST-MODIFIED:20260126T182537Z
UID:1795-1769212800-1769212800@moretoninmarsh.com
SUMMARY:Horse Racing: Festival Trials Day\, Cheltenham
DESCRIPTION:
URL:https://moretoninmarsh.com/event/horse-racing-festival-trials-day-cheltenham/
END:VEVENT
BEGIN:VEVENT
DTSTART;TZID=Europe/London:20260122T000000
DTEND;TZID=Europe/London:20260122T000000
DTSTAMP:20260419T205822
CREATED:20260126T182537Z
LAST-MODIFIED:20260126T182537Z
UID:1794-1769040000-1769040000@moretoninmarsh.com
SUMMARY:Cricket: 1st ODI Sri Lanka v England\, Colombo
DESCRIPTION:
URL:https://moretoninmarsh.com/event/cricket-1st-odi-sri-lanka-v-england-colombo/
END:VEVENT
BEGIN:VEVENT
DTSTART;TZID=Europe/London:20260118T000000
DTEND;TZID=Europe/London:20260118T000000
DTSTAMP:20260419T205822
CREATED:20260126T182536Z
LAST-MODIFIED:20260126T182536Z
UID:1793-1768694400-1768694400@moretoninmarsh.com
SUMMARY:Football: 4th Round Women's FA Cup
DESCRIPTION:
URL:https://moretoninmarsh.com/event/football-4th-round-womens-fa-cup/
END:VEVENT
BEGIN:VEVENT
DTSTART;TZID=Europe/London:20260114T000000
DTEND;TZID=Europe/London:20260115T000000
DTSTAMP:20260419T205822
CREATED:20260126T182536Z
LAST-MODIFIED:20260126T182536Z
UID:1792-1768348800-1768435200@moretoninmarsh.com
SUMMARY:Lamma Show\, NEC Birmingham
DESCRIPTION:
URL:https://moretoninmarsh.com/event/lamma-show-nec-birmingham/
END:VEVENT
BEGIN:VEVENT
DTSTART;TZID=Europe/London:20260112T000000
DTEND;TZID=Europe/London:20260112T000000
DTSTAMP:20260419T205822
CREATED:20260126T182531Z
LAST-MODIFIED:20260126T182531Z
UID:1791-1768176000-1768176000@moretoninmarsh.com
SUMMARY:Tennis: Australian Open\, Melbourne
DESCRIPTION:
URL:https://moretoninmarsh.com/event/tennis-australian-open-melbourne/
END:VEVENT
BEGIN:VEVENT
DTSTART;TZID=Europe/London:20260110T000000
DTEND;TZID=Europe/London:20260110T000000
DTSTAMP:20260419T205822
CREATED:20260126T182530Z
LAST-MODIFIED:20260126T182530Z
UID:1790-1768003200-1768003200@moretoninmarsh.com
SUMMARY:Football: FA Cup 3rd Round
DESCRIPTION:
URL:https://moretoninmarsh.com/event/football-fa-cup-3rd-round/
END:VEVENT
END:VCALENDAR