BEGIN:VCALENDAR
VERSION:2.0
PRODID:-//moretoninmarsh.com - ECPv6.15.20//NONSGML v1.0//EN
CALSCALE:GREGORIAN
METHOD:PUBLISH
X-WR-CALNAME:moretoninmarsh.com
X-ORIGINAL-URL:https://moretoninmarsh.com
X-WR-CALDESC:Events for moretoninmarsh.com
REFRESH-INTERVAL;VALUE=DURATION:PT1H
X-Robots-Tag:noindex
X-PUBLISHED-TTL:PT1H
BEGIN:VTIMEZONE
TZID:Europe/London
BEGIN:DAYLIGHT
TZOFFSETFROM:+0000
TZOFFSETTO:+0100
TZNAME:BST
DTSTART:20230326T010000
END:DAYLIGHT
BEGIN:STANDARD
TZOFFSETFROM:+0100
TZOFFSETTO:+0000
TZNAME:GMT
DTSTART:20231029T010000
END:STANDARD
BEGIN:DAYLIGHT
TZOFFSETFROM:+0000
TZOFFSETTO:+0100
TZNAME:BST
DTSTART:20240331T010000
END:DAYLIGHT
BEGIN:STANDARD
TZOFFSETFROM:+0100
TZOFFSETTO:+0000
TZNAME:GMT
DTSTART:20241027T010000
END:STANDARD
BEGIN:DAYLIGHT
TZOFFSETFROM:+0000
TZOFFSETTO:+0100
TZNAME:BST
DTSTART:20250330T010000
END:DAYLIGHT
BEGIN:STANDARD
TZOFFSETFROM:+0100
TZOFFSETTO:+0000
TZNAME:GMT
DTSTART:20251026T010000
END:STANDARD
BEGIN:DAYLIGHT
TZOFFSETFROM:+0000
TZOFFSETTO:+0100
TZNAME:BST
DTSTART:20260329T010000
END:DAYLIGHT
BEGIN:STANDARD
TZOFFSETFROM:+0100
TZOFFSETTO:+0000
TZNAME:GMT
DTSTART:20261025T010000
END:STANDARD
END:VTIMEZONE
BEGIN:VTIMEZONE
TZID:UTC
BEGIN:STANDARD
TZOFFSETFROM:+0000
TZOFFSETTO:+0000
TZNAME:UTC
DTSTART:20230101T000000
END:STANDARD
END:VTIMEZONE
BEGIN:VEVENT
DTSTART;TZID=Europe/London:20251004T100000
DTEND;TZID=Europe/London:20251004T120000
DTSTAMP:20260420T021605
CREATED:20241004T142544Z
LAST-MODIFIED:20250921T073343Z
UID:903-1759572000-1759579200@moretoninmarsh.com
SUMMARY:Town Council litter Pick
DESCRIPTION:Please spare your time to keep the town and parks clean and tidy
URL:https://moretoninmarsh.com/event/litter-pick/
LOCATION:Town Council offices\, Old Town\, Moreton-in-Marsh\, Gloucestershire\, GL56 0LW\, United Kingdom
END:VEVENT
BEGIN:VEVENT
DTSTART;TZID=Europe/London:20251002T080000
DTEND;TZID=Europe/London:20251002T170000
DTSTAMP:20260420T021605
CREATED:20251001T143730Z
LAST-MODIFIED:20251001T144052Z
UID:1598-1759392000-1759424400@moretoninmarsh.com
SUMMARY:🟣 Postnatal mum and baby strength classes 💪🏻🩷
DESCRIPTION:Every Tuesday morning 10.30am at Ebrington village hall 📍 \n  \n45 minute workout and a 45 minute tea\, coffee\, homemade snack 🧁 and chat – to get to know each other a little more \n  \nClasses are £8.50. All you need to bring is your baby 🙂 and a bottle of water \n  \nI look forward to seeing you there soon 🫶🏻 \n  \nBecky x \n 
URL:https://moretoninmarsh.com/event/%f0%9f%9f%a3-postnatal-mum-and-baby-strength-classes-%f0%9f%92%aa%f0%9f%8f%bb%f0%9f%a9%b7/
LOCATION:Ebrington Village Hall
ATTACH;FMTTYPE=image/jpeg:https://moretoninmarsh.com/wp-content/uploads/2025/10/FB_IMG_1759329527684.jpg
END:VEVENT
BEGIN:VEVENT
DTSTART;TZID=Europe/London:20250918T000000
DTEND;TZID=Europe/London:20250928T235959
DTSTAMP:20260420T021605
CREATED:20250921T075107Z
LAST-MODIFIED:20250921T075107Z
UID:1570-1758153600-1759103999@moretoninmarsh.com
SUMMARY:The Bell Inn Cask Ale week
DESCRIPTION:19 cask ales lined up over 11 days
URL:https://moretoninmarsh.com/event/the-bell-inn-cask-ale-week/
LOCATION:The Bell Inn\, High Street\, Moreton-in-Marsh\, Gloucestershire\, GL56 0BQ\, United Kingdom
END:VEVENT
BEGIN:VEVENT
DTSTART;TZID=Europe/London:20250429T183000
DTEND;TZID=Europe/London:20250429T210000
DTSTAMP:20260420T021605
CREATED:20250325T152325Z
LAST-MODIFIED:20250325T152401Z
UID:895-1745951400-1745960400@moretoninmarsh.com
SUMMARY:Full Town Council meeting
DESCRIPTION:Members of the public are welcome to attend; please see the agenda for more details.
URL:https://moretoninmarsh.com/event/full-council-meeting/
LOCATION:Redesdale Hall\, High Street\, Moreton-in-Marsh\, Gloucestershire\, GL56 0AX\, United Kingdom
END:VEVENT
BEGIN:VEVENT
DTSTART;TZID=Europe/London:20250327T000000
DTEND;TZID=Europe/London:20250329T235959
DTSTAMP:20260420T021605
CREATED:20250325T152442Z
LAST-MODIFIED:20250325T153219Z
UID:900-1743033600-1743292799@moretoninmarsh.com
SUMMARY:Warwick's fun fair
DESCRIPTION:The fair’s operating days are: \nThursday 27th March from 6pm \nFriday 28th March from 6pm \nSaturday 29th March from 2pm
URL:https://moretoninmarsh.com/event/warwicks-fun-fair/
END:VEVENT
BEGIN:VEVENT
DTSTART;TZID=Europe/London:20250325T183000
DTEND;TZID=Europe/London:20250325T210000
DTSTAMP:20260420T021605
CREATED:20250325T152013Z
LAST-MODIFIED:20250325T153312Z
UID:890-1742927400-1742936400@moretoninmarsh.com
SUMMARY:Full Town Council meeting
DESCRIPTION:Members of the public are welcome to attend; please see the agenda for more details.
URL:https://moretoninmarsh.com/event/full-town-council-25-march/
LOCATION:Town Council offices\, Old Town\, Moreton-in-Marsh\, Gloucestershire\, GL56 0LW\, United Kingdom
END:VEVENT
BEGIN:VEVENT
DTSTART;TZID=Europe/London:20241114T170000
DTEND;TZID=Europe/London:20241114T210000
DTSTAMP:20260420T021605
CREATED:20241111T202325Z
LAST-MODIFIED:20241111T202325Z
UID:82-1731603600-1731618000@moretoninmarsh.com
SUMMARY:Blue Diamond garden centre Christmas event
DESCRIPTION:Start the festive season in style with our Christmas shopping event. \nYou will be greeted with a complimentary glass of mulled wine and a delicious mince pie on arrival\, before you explore our 2024 Christmas collection of thousands of decorations. \n 
URL:https://moretoninmarsh.com/event/blue-diamond-garden-centre-christmas-event/
LOCATION:Garden centre\, Fosseway Garden Centre. Stow Road\, Moreton in Marsh\, Gloucestershire\, GL56 0DS\, United Kingdom
END:VEVENT
BEGIN:VEVENT
DTSTART;TZID=Europe/London:20240619T080000
DTEND;TZID=Europe/London:20240620T170000
DTSTAMP:20260420T021605
CREATED:20240619T065006Z
LAST-MODIFIED:20240619T065006Z
UID:50-1718784000-1718902800@moretoninmarsh.com
SUMMARY:England vs Denmark
DESCRIPTION:
URL:https://moretoninmarsh.com/event/england-vs-denmark/
LOCATION:The Inn on the Marsh
END:VEVENT
BEGIN:VEVENT
DTSTART;TZID=UTC:20240321T080000
DTEND;TZID=UTC:20240321T170000
DTSTAMP:20260420T021605
CREATED:20240321T102445Z
LAST-MODIFIED:20240321T102445Z
UID:27-1711008000-1711040400@moretoninmarsh.com
SUMMARY:Cotswold Friends pub quiz
DESCRIPTION:
URL:https://moretoninmarsh.com/event/cotswold-friends-pub-quiz/
END:VEVENT
BEGIN:VEVENT
DTSTART;TZID=UTC:20240321T080000
DTEND;TZID=UTC:20240321T170000
DTSTAMP:20260420T021605
CREATED:20240321T102403Z
LAST-MODIFIED:20240321T102403Z
UID:23-1711008000-1711040400@moretoninmarsh.com
SUMMARY:Sakura Boogie Bingo
DESCRIPTION:
URL:https://moretoninmarsh.com/event/sakura-boogie-bingo/
END:VEVENT
END:VCALENDAR