BEGIN:VCALENDAR
VERSION:2.0
PRODID:-//moretoninmarsh.com - ECPv6.15.20//NONSGML v1.0//EN
CALSCALE:GREGORIAN
METHOD:PUBLISH
X-WR-CALNAME:moretoninmarsh.com
X-ORIGINAL-URL:https://moretoninmarsh.com
X-WR-CALDESC:Events for moretoninmarsh.com
REFRESH-INTERVAL;VALUE=DURATION:PT1H
X-Robots-Tag:noindex
X-PUBLISHED-TTL:PT1H
BEGIN:VTIMEZONE
TZID:Europe/London
BEGIN:DAYLIGHT
TZOFFSETFROM:+0000
TZOFFSETTO:+0100
TZNAME:BST
DTSTART:20240331T010000
END:DAYLIGHT
BEGIN:STANDARD
TZOFFSETFROM:+0100
TZOFFSETTO:+0000
TZNAME:GMT
DTSTART:20241027T010000
END:STANDARD
BEGIN:DAYLIGHT
TZOFFSETFROM:+0000
TZOFFSETTO:+0100
TZNAME:BST
DTSTART:20250330T010000
END:DAYLIGHT
BEGIN:STANDARD
TZOFFSETFROM:+0100
TZOFFSETTO:+0000
TZNAME:GMT
DTSTART:20251026T010000
END:STANDARD
BEGIN:DAYLIGHT
TZOFFSETFROM:+0000
TZOFFSETTO:+0100
TZNAME:BST
DTSTART:20260329T010000
END:DAYLIGHT
BEGIN:STANDARD
TZOFFSETFROM:+0100
TZOFFSETTO:+0000
TZNAME:GMT
DTSTART:20261025T010000
END:STANDARD
END:VTIMEZONE
BEGIN:VEVENT
DTSTART;TZID=Europe/London:20251208T183000
DTEND;TZID=Europe/London:20251208T213000
DTSTAMP:20260419T233656
CREATED:20251113T093000Z
LAST-MODIFIED:20251113T093000Z
UID:1632-1765218600-1765229400@moretoninmarsh.com
SUMMARY:Steak 3 Ways – Paired with Wines
DESCRIPTION:Come and enjoy our “Steak 3 Ways” dinner event at Moreton Wine Merchants: three different cuts of steak\, each paired with a carefully selected wine from our trusted suppliers. Menu highlights:– Rib-eye with bold red– Fillet with something elegant– Sirloin with a lighter styleDetails:– Date: Saturday\, 8 December 2025– Time: 18:30 start– Venue: Moreton Wine Merchants\, Moreton-in-Marsh– Tickets: £45 per person (includes dinner & four glasses of wine) Booking:Limited seats available – reserve early.
URL:https://moretoninmarsh.com/event/steak-3-ways-paired-with-wines/
LOCATION:Moreton Wine Merchants\, 2 High Street\, Moreton-In-Marsh\,\, Gloucestershire\, United Kingdom
CATEGORIES:Dinner Event,Food & Wine
END:VEVENT
END:VCALENDAR