BEGIN:VCALENDAR
VERSION:2.0
PRODID:-//moretoninmarsh.com - ECPv6.15.20//NONSGML v1.0//EN
CALSCALE:GREGORIAN
METHOD:PUBLISH
X-WR-CALNAME:moretoninmarsh.com
X-ORIGINAL-URL:https://moretoninmarsh.com
X-WR-CALDESC:Events for moretoninmarsh.com
REFRESH-INTERVAL;VALUE=DURATION:PT1H
X-Robots-Tag:noindex
X-PUBLISHED-TTL:PT1H
BEGIN:VTIMEZONE
TZID:Europe/London
BEGIN:DAYLIGHT
TZOFFSETFROM:+0000
TZOFFSETTO:+0100
TZNAME:BST
DTSTART:20240331T010000
END:DAYLIGHT
BEGIN:STANDARD
TZOFFSETFROM:+0100
TZOFFSETTO:+0000
TZNAME:GMT
DTSTART:20241027T010000
END:STANDARD
BEGIN:DAYLIGHT
TZOFFSETFROM:+0000
TZOFFSETTO:+0100
TZNAME:BST
DTSTART:20250330T010000
END:DAYLIGHT
BEGIN:STANDARD
TZOFFSETFROM:+0100
TZOFFSETTO:+0000
TZNAME:GMT
DTSTART:20251026T010000
END:STANDARD
BEGIN:DAYLIGHT
TZOFFSETFROM:+0000
TZOFFSETTO:+0100
TZNAME:BST
DTSTART:20260329T010000
END:DAYLIGHT
BEGIN:STANDARD
TZOFFSETFROM:+0100
TZOFFSETTO:+0000
TZNAME:GMT
DTSTART:20261025T010000
END:STANDARD
END:VTIMEZONE
BEGIN:VEVENT
DTSTART;TZID=Europe/London:20251115T100000
DTEND;TZID=Europe/London:20251115T150000
DTSTAMP:20260419T233444
CREATED:20251113T111913Z
LAST-MODIFIED:20251113T111913Z
UID:1646-1763200800-1763218800@moretoninmarsh.com
SUMMARY:Charity Christmas Craft Fair
DESCRIPTION:Saturday 15th November\, 10am–3pm at Leedons Park\, Childswickham. \nOur 14th Charity Christmas Craft Fair in aid of Birmingham Children’s Hospital and Cotswold Riding for Disabled. \nA multitude of local crafters displaying their latest creations\, plus refreshments and cakes\, bottle tombola and a grand raffle with over 20 prizes including tickets for wildlife parks\, breweries\, National Trust\, Birdland\, theatres\, railways\, cream teas and more. \nLast year £4000 was donated to the two charities. All are warmly invited. \nPlease note: there are no vacancies for stall holders. If anyone tries to sell you a table\, it is a scam. \nSee the Facebook event page for more details.
URL:https://moretoninmarsh.com/event/charity-christmas-craft-fair/
CATEGORIES:Charity,Christmas,Craft Fair
END:VEVENT
END:VCALENDAR