BEGIN:VCALENDAR
VERSION:2.0
PRODID:-//moretoninmarsh.com - ECPv6.15.20//NONSGML v1.0//EN
CALSCALE:GREGORIAN
METHOD:PUBLISH
X-ORIGINAL-URL:https://moretoninmarsh.com
X-WR-CALDESC:Events for moretoninmarsh.com
REFRESH-INTERVAL;VALUE=DURATION:PT1H
X-Robots-Tag:noindex
X-PUBLISHED-TTL:PT1H
BEGIN:VTIMEZONE
TZID:Europe/London
BEGIN:DAYLIGHT
TZOFFSETFROM:+0000
TZOFFSETTO:+0100
TZNAME:BST
DTSTART:20250330T010000
END:DAYLIGHT
BEGIN:STANDARD
TZOFFSETFROM:+0100
TZOFFSETTO:+0000
TZNAME:GMT
DTSTART:20251026T010000
END:STANDARD
BEGIN:DAYLIGHT
TZOFFSETFROM:+0000
TZOFFSETTO:+0100
TZNAME:BST
DTSTART:20260329T010000
END:DAYLIGHT
BEGIN:STANDARD
TZOFFSETFROM:+0100
TZOFFSETTO:+0000
TZNAME:GMT
DTSTART:20261025T010000
END:STANDARD
BEGIN:DAYLIGHT
TZOFFSETFROM:+0000
TZOFFSETTO:+0100
TZNAME:BST
DTSTART:20270328T010000
END:DAYLIGHT
BEGIN:STANDARD
TZOFFSETFROM:+0100
TZOFFSETTO:+0000
TZNAME:GMT
DTSTART:20271031T010000
END:STANDARD
END:VTIMEZONE
BEGIN:VEVENT
DTSTART;TZID=Europe/London:20260807T000000
DTEND;TZID=Europe/London:20260829T000000
DTSTAMP:20260419T205132
CREATED:20260126T183053Z
LAST-MODIFIED:20260126T183053Z
UID:1900-1786060800-1787961600@moretoninmarsh.com
SUMMARY:The Royal Edinburgh Military Tattoo
DESCRIPTION:
URL:https://moretoninmarsh.com/event/the-royal-edinburgh-military-tattoo/
END:VEVENT
BEGIN:VEVENT
DTSTART;TZID=Europe/London:20260807T000000
DTEND;TZID=Europe/London:20260830T000000
DTSTAMP:20260419T205132
CREATED:20260126T183054Z
LAST-MODIFIED:20260126T183054Z
UID:1901-1786060800-1788048000@moretoninmarsh.com
SUMMARY:Edinburgh International Festival
DESCRIPTION:
URL:https://moretoninmarsh.com/event/edinburgh-international-festival/
END:VEVENT
BEGIN:VEVENT
DTSTART;TZID=Europe/London:20260827T000000
DTEND;TZID=Europe/London:20260830T000000
DTSTAMP:20260419T205132
CREATED:20260126T183123Z
LAST-MODIFIED:20260126T183123Z
UID:1908-1787788800-1788048000@moretoninmarsh.com
SUMMARY:Reading Festival
DESCRIPTION:
URL:https://moretoninmarsh.com/event/reading-festival/
END:VEVENT
BEGIN:VEVENT
DTSTART;TZID=Europe/London:20260827T000000
DTEND;TZID=Europe/London:20260831T000000
DTSTAMP:20260419T205132
CREATED:20260126T183123Z
LAST-MODIFIED:20260126T183123Z
UID:1909-1787788800-1788134400@moretoninmarsh.com
SUMMARY:Cricket: 2nd Test England v Pakistan\, Lord's
DESCRIPTION:
URL:https://moretoninmarsh.com/event/cricket-2nd-test-england-v-pakistan-lords/
END:VEVENT
BEGIN:VEVENT
DTSTART;TZID=Europe/London:20260828T000000
DTEND;TZID=Europe/London:20260830T000000
DTSTAMP:20260419T205132
CREATED:20260126T183124Z
LAST-MODIFIED:20260126T183124Z
UID:1911-1787875200-1788048000@moretoninmarsh.com
SUMMARY:The Big Feastival\, Kingham
DESCRIPTION:
URL:https://moretoninmarsh.com/event/the-big-feastival-kingham/
END:VEVENT
END:VCALENDAR