BEGIN:VCALENDAR
VERSION:2.0
PRODID:-//moretoninmarsh.com - ECPv6.15.20//NONSGML v1.0//EN
CALSCALE:GREGORIAN
METHOD:PUBLISH
X-ORIGINAL-URL:https://moretoninmarsh.com
X-WR-CALDESC:Events for moretoninmarsh.com
REFRESH-INTERVAL;VALUE=DURATION:PT1H
X-Robots-Tag:noindex
X-PUBLISHED-TTL:PT1H
BEGIN:VTIMEZONE
TZID:Europe/London
BEGIN:DAYLIGHT
TZOFFSETFROM:+0000
TZOFFSETTO:+0100
TZNAME:BST
DTSTART:20250330T010000
END:DAYLIGHT
BEGIN:STANDARD
TZOFFSETFROM:+0100
TZOFFSETTO:+0000
TZNAME:GMT
DTSTART:20251026T010000
END:STANDARD
BEGIN:DAYLIGHT
TZOFFSETFROM:+0000
TZOFFSETTO:+0100
TZNAME:BST
DTSTART:20260329T010000
END:DAYLIGHT
BEGIN:STANDARD
TZOFFSETFROM:+0100
TZOFFSETTO:+0000
TZNAME:GMT
DTSTART:20261025T010000
END:STANDARD
BEGIN:DAYLIGHT
TZOFFSETFROM:+0000
TZOFFSETTO:+0100
TZNAME:BST
DTSTART:20270328T010000
END:DAYLIGHT
BEGIN:STANDARD
TZOFFSETFROM:+0100
TZOFFSETTO:+0000
TZNAME:GMT
DTSTART:20271031T010000
END:STANDARD
END:VTIMEZONE
BEGIN:VEVENT
DTSTART;TZID=Europe/London:20260328T090000
DTEND;TZID=Europe/London:20260328T130000
DTSTAMP:20260419T164959
CREATED:20260303T131327Z
LAST-MODIFIED:20260303T131327Z
UID:2065-1774688400-1774702800@moretoninmarsh.com
SUMMARY:Cotswold Pokemon Card Market - March 28th 2026
DESCRIPTION:
URL:https://moretoninmarsh.com/event/cotswold-pokemon-card-market-march-28th-2026/
CATEGORIES:Market
END:VEVENT
BEGIN:VEVENT
DTSTART;TZID=Europe/London:20260328T183000
DTEND;TZID=Europe/London:20260328T220000
DTSTAMP:20260419T164959
CREATED:20260303T131323Z
LAST-MODIFIED:20260303T131323Z
UID:2063-1774722600-1774735200@moretoninmarsh.com
SUMMARY:Quiz Night
DESCRIPTION:
URL:https://moretoninmarsh.com/event/quiz-night/
CATEGORIES:Community
END:VEVENT
END:VCALENDAR