BEGIN:VCALENDAR
VERSION:2.0
PRODID:-//moretoninmarsh.com - ECPv6.15.20//NONSGML v1.0//EN
CALSCALE:GREGORIAN
METHOD:PUBLISH
X-ORIGINAL-URL:https://moretoninmarsh.com
X-WR-CALDESC:Events for moretoninmarsh.com
REFRESH-INTERVAL;VALUE=DURATION:PT1H
X-Robots-Tag:noindex
X-PUBLISHED-TTL:PT1H
BEGIN:VTIMEZONE
TZID:Europe/London
BEGIN:DAYLIGHT
TZOFFSETFROM:+0000
TZOFFSETTO:+0100
TZNAME:BST
DTSTART:20250330T010000
END:DAYLIGHT
BEGIN:STANDARD
TZOFFSETFROM:+0100
TZOFFSETTO:+0000
TZNAME:GMT
DTSTART:20251026T010000
END:STANDARD
BEGIN:DAYLIGHT
TZOFFSETFROM:+0000
TZOFFSETTO:+0100
TZNAME:BST
DTSTART:20260329T010000
END:DAYLIGHT
BEGIN:STANDARD
TZOFFSETFROM:+0100
TZOFFSETTO:+0000
TZNAME:GMT
DTSTART:20261025T010000
END:STANDARD
BEGIN:DAYLIGHT
TZOFFSETFROM:+0000
TZOFFSETTO:+0100
TZNAME:BST
DTSTART:20270328T010000
END:DAYLIGHT
BEGIN:STANDARD
TZOFFSETFROM:+0100
TZOFFSETTO:+0000
TZNAME:GMT
DTSTART:20271031T010000
END:STANDARD
END:VTIMEZONE
BEGIN:VEVENT
DTSTART;TZID=Europe/London:20260306T000000
DTEND;TZID=Europe/London:20260322T000000
DTSTAMP:20260419T165129
CREATED:20260126T182707Z
LAST-MODIFIED:20260126T182707Z
UID:1823-1772755200-1774137600@moretoninmarsh.com
SUMMARY:Rugby: Six Nations Ireland v Wales
DESCRIPTION:
URL:https://moretoninmarsh.com/event/rugby-six-nations-ireland-v-wales/
END:VEVENT
BEGIN:VEVENT
DTSTART;TZID=Europe/London:20260321T100000
DTEND;TZID=Europe/London:20260321T140000
DTSTAMP:20260419T165129
CREATED:20260303T131340Z
LAST-MODIFIED:20260303T131340Z
UID:2069-1774087200-1774101600@moretoninmarsh.com
SUMMARY:Showcase Event – Esmere Care Home
DESCRIPTION:
URL:https://moretoninmarsh.com/event/showcase-event-esmere-care-home/
CATEGORIES:Community
END:VEVENT
BEGIN:VEVENT
DTSTART;TZID=Europe/London:20260321T193000
DTEND;TZID=Europe/London:20260321T223000
DTSTAMP:20260419T165129
CREATED:20260303T131354Z
LAST-MODIFIED:20260303T131354Z
UID:2073-1774121400-1774132200@moretoninmarsh.com
SUMMARY:DOM MARTIN brings his acoustic tour to The Redesdale Hall
DESCRIPTION:
URL:https://moretoninmarsh.com/event/dom-martin-brings-his-acoustic-tour-to-the-redesdale-hall/
CATEGORIES:Live Music
END:VEVENT
END:VCALENDAR