BEGIN:VCALENDAR
VERSION:2.0
PRODID:-//moretoninmarsh.com - ECPv6.15.20//NONSGML v1.0//EN
CALSCALE:GREGORIAN
METHOD:PUBLISH
X-ORIGINAL-URL:https://moretoninmarsh.com
X-WR-CALDESC:Events for moretoninmarsh.com
REFRESH-INTERVAL;VALUE=DURATION:PT1H
X-Robots-Tag:noindex
X-PUBLISHED-TTL:PT1H
BEGIN:VTIMEZONE
TZID:Europe/London
BEGIN:DAYLIGHT
TZOFFSETFROM:+0000
TZOFFSETTO:+0100
TZNAME:BST
DTSTART:20240331T010000
END:DAYLIGHT
BEGIN:STANDARD
TZOFFSETFROM:+0100
TZOFFSETTO:+0000
TZNAME:GMT
DTSTART:20241027T010000
END:STANDARD
BEGIN:DAYLIGHT
TZOFFSETFROM:+0000
TZOFFSETTO:+0100
TZNAME:BST
DTSTART:20250330T010000
END:DAYLIGHT
BEGIN:STANDARD
TZOFFSETFROM:+0100
TZOFFSETTO:+0000
TZNAME:GMT
DTSTART:20251026T010000
END:STANDARD
BEGIN:DAYLIGHT
TZOFFSETFROM:+0000
TZOFFSETTO:+0100
TZNAME:BST
DTSTART:20260329T010000
END:DAYLIGHT
BEGIN:STANDARD
TZOFFSETFROM:+0100
TZOFFSETTO:+0000
TZNAME:GMT
DTSTART:20261025T010000
END:STANDARD
END:VTIMEZONE
BEGIN:VEVENT
DTSTART;TZID=Europe/London:20251205T100000
DTEND;TZID=Europe/London:20251207T170000
DTSTAMP:20260419T205335
CREATED:20251113T110441Z
LAST-MODIFIED:20251113T110441Z
UID:1643-1764928800-1765126800@moretoninmarsh.com
SUMMARY:Carterton Christmas Market
DESCRIPTION:Carterton Christmas Market in Market Place and Black Bourton Road Car Park\, 5th–7th December 2025. \nA new Christmas market for Carterton\, right in the heart of the community\, with festive street food\, tasty treats\, handmade groceries\, arts\, crafts\, Christmas gifts\, stocking fillers and hamper items. \nOpening times (subject to slight variation):\nFriday: 10am – 5pm\nSaturday: 9am – 6pm\nSunday: 10am – 5pm \nSee the event page and Zoom Events website for trader applications and visitor updates.
URL:https://moretoninmarsh.com/event/carterton-christmas-market/
CATEGORIES:Christmas,Market
END:VEVENT
END:VCALENDAR