BEGIN:VCALENDAR
VERSION:2.0
PRODID:-//moretoninmarsh.com - ECPv6.15.20//NONSGML v1.0//EN
CALSCALE:GREGORIAN
METHOD:PUBLISH
X-WR-CALNAME:moretoninmarsh.com
X-ORIGINAL-URL:https://moretoninmarsh.com
X-WR-CALDESC:Events for moretoninmarsh.com
REFRESH-INTERVAL;VALUE=DURATION:PT1H
X-Robots-Tag:noindex
X-PUBLISHED-TTL:PT1H
BEGIN:VTIMEZONE
TZID:Europe/London
BEGIN:DAYLIGHT
TZOFFSETFROM:+0000
TZOFFSETTO:+0100
TZNAME:BST
DTSTART:20240331T010000
END:DAYLIGHT
BEGIN:STANDARD
TZOFFSETFROM:+0100
TZOFFSETTO:+0000
TZNAME:GMT
DTSTART:20241027T010000
END:STANDARD
BEGIN:DAYLIGHT
TZOFFSETFROM:+0000
TZOFFSETTO:+0100
TZNAME:BST
DTSTART:20250330T010000
END:DAYLIGHT
BEGIN:STANDARD
TZOFFSETFROM:+0100
TZOFFSETTO:+0000
TZNAME:GMT
DTSTART:20251026T010000
END:STANDARD
BEGIN:DAYLIGHT
TZOFFSETFROM:+0000
TZOFFSETTO:+0100
TZNAME:BST
DTSTART:20260329T010000
END:DAYLIGHT
BEGIN:STANDARD
TZOFFSETFROM:+0100
TZOFFSETTO:+0000
TZNAME:GMT
DTSTART:20261025T010000
END:STANDARD
END:VTIMEZONE
BEGIN:VEVENT
DTSTART;TZID=Europe/London:20251112T180000
DTEND;TZID=Europe/London:20251112T203000
DTSTAMP:20260419T221552
CREATED:20251111T183820Z
LAST-MODIFIED:20251111T183820Z
UID:1624-1762970400-1762979400@moretoninmarsh.com
SUMMARY:Fired Pizza Night
DESCRIPTION:Visit Moreton Wine Merchants for our HIGHLY REQUESTED SIXTH fired pizza night\, offering an opportunity to savour an Italian pizza paired with our featured Italian wine of the week. This is a sit-down occasion to enjoy with loved ones
URL:https://moretoninmarsh.com/event/fired-pizza-night/
LOCATION:Moreton Wine Merchants\, 2 High Street\, Moreton-In-Marsh\,\, Gloucestershire\, United Kingdom
END:VEVENT
END:VCALENDAR